BEGIN:VCALENDAR
VERSION:2.0
PRODID:-//socialdancing.ca - ECPv6.15.20//NONSGML v1.0//EN
CALSCALE:GREGORIAN
METHOD:PUBLISH
X-ORIGINAL-URL:https://socialdancing.ca
X-WR-CALDESC:Events for socialdancing.ca
REFRESH-INTERVAL;VALUE=DURATION:PT1H
X-Robots-Tag:noindex
X-PUBLISHED-TTL:PT1H
BEGIN:VTIMEZONE
TZID:America/Toronto
BEGIN:DAYLIGHT
TZOFFSETFROM:-0500
TZOFFSETTO:-0400
TZNAME:EDT
DTSTART:20260308T070000
END:DAYLIGHT
BEGIN:STANDARD
TZOFFSETFROM:-0400
TZOFFSETTO:-0500
TZNAME:EST
DTSTART:20261101T060000
END:STANDARD
BEGIN:DAYLIGHT
TZOFFSETFROM:-0500
TZOFFSETTO:-0400
TZNAME:EDT
DTSTART:20270314T070000
END:DAYLIGHT
BEGIN:STANDARD
TZOFFSETFROM:-0400
TZOFFSETTO:-0500
TZNAME:EST
DTSTART:20271107T060000
END:STANDARD
BEGIN:DAYLIGHT
TZOFFSETFROM:-0500
TZOFFSETTO:-0400
TZNAME:EDT
DTSTART:20280312T070000
END:DAYLIGHT
BEGIN:STANDARD
TZOFFSETFROM:-0400
TZOFFSETTO:-0500
TZNAME:EST
DTSTART:20281105T060000
END:STANDARD
END:VTIMEZONE
BEGIN:VEVENT
DTSTART;TZID=America/Toronto:20270425T181500
DTEND;TZID=America/Toronto:20270425T220000
DTSTAMP:20260420T013025
CREATED:20260416T103830Z
LAST-MODIFIED:20260416T103830Z
UID:10000054-1808676900-1808690400@socialdancing.ca
SUMMARY:Baila West Sundays
DESCRIPTION:
URL:https://socialdancing.ca/event/baila-west-sundays/2027-04-25/
LOCATION:Baila West Mississauga\, 40 Stavebank Road North\, Mississauga\, Ontario\, L5G 2T8\, Canada
ATTACH;FMTTYPE=image/png:https://socialdancing.ca/wp-content/uploads/2026/04/Baila-2025-Outside-Large.png
END:VEVENT
BEGIN:VEVENT
DTSTART;TZID=America/Toronto:20270502T181500
DTEND;TZID=America/Toronto:20270502T220000
DTSTAMP:20260420T013025
CREATED:20260416T103830Z
LAST-MODIFIED:20260416T103830Z
UID:10000055-1809281700-1809295200@socialdancing.ca
SUMMARY:Baila West Sundays
DESCRIPTION:
URL:https://socialdancing.ca/event/baila-west-sundays/2027-05-02/
LOCATION:Baila West Mississauga\, 40 Stavebank Road North\, Mississauga\, Ontario\, L5G 2T8\, Canada
ATTACH;FMTTYPE=image/png:https://socialdancing.ca/wp-content/uploads/2026/04/Baila-2025-Outside-Large.png
END:VEVENT
BEGIN:VEVENT
DTSTART;TZID=America/Toronto:20270509T181500
DTEND;TZID=America/Toronto:20270509T220000
DTSTAMP:20260420T013025
CREATED:20260416T103830Z
LAST-MODIFIED:20260416T103830Z
UID:10000056-1809886500-1809900000@socialdancing.ca
SUMMARY:Baila West Sundays
DESCRIPTION:
URL:https://socialdancing.ca/event/baila-west-sundays/2027-05-09/
LOCATION:Baila West Mississauga\, 40 Stavebank Road North\, Mississauga\, Ontario\, L5G 2T8\, Canada
ATTACH;FMTTYPE=image/png:https://socialdancing.ca/wp-content/uploads/2026/04/Baila-2025-Outside-Large.png
END:VEVENT
BEGIN:VEVENT
DTSTART;TZID=America/Toronto:20270516T181500
DTEND;TZID=America/Toronto:20270516T220000
DTSTAMP:20260420T013025
CREATED:20260416T103830Z
LAST-MODIFIED:20260416T103830Z
UID:10000057-1810491300-1810504800@socialdancing.ca
SUMMARY:Baila West Sundays
DESCRIPTION:
URL:https://socialdancing.ca/event/baila-west-sundays/2027-05-16/
LOCATION:Baila West Mississauga\, 40 Stavebank Road North\, Mississauga\, Ontario\, L5G 2T8\, Canada
ATTACH;FMTTYPE=image/png:https://socialdancing.ca/wp-content/uploads/2026/04/Baila-2025-Outside-Large.png
END:VEVENT
BEGIN:VEVENT
DTSTART;TZID=America/Toronto:20270523T181500
DTEND;TZID=America/Toronto:20270523T220000
DTSTAMP:20260420T013025
CREATED:20260416T103830Z
LAST-MODIFIED:20260416T103830Z
UID:10000058-1811096100-1811109600@socialdancing.ca
SUMMARY:Baila West Sundays
DESCRIPTION:
URL:https://socialdancing.ca/event/baila-west-sundays/2027-05-23/
LOCATION:Baila West Mississauga\, 40 Stavebank Road North\, Mississauga\, Ontario\, L5G 2T8\, Canada
ATTACH;FMTTYPE=image/png:https://socialdancing.ca/wp-content/uploads/2026/04/Baila-2025-Outside-Large.png
END:VEVENT
BEGIN:VEVENT
DTSTART;TZID=America/Toronto:20270530T181500
DTEND;TZID=America/Toronto:20270530T220000
DTSTAMP:20260420T013025
CREATED:20260416T103830Z
LAST-MODIFIED:20260416T103830Z
UID:10000059-1811700900-1811714400@socialdancing.ca
SUMMARY:Baila West Sundays
DESCRIPTION:
URL:https://socialdancing.ca/event/baila-west-sundays/2027-05-30/
LOCATION:Baila West Mississauga\, 40 Stavebank Road North\, Mississauga\, Ontario\, L5G 2T8\, Canada
ATTACH;FMTTYPE=image/png:https://socialdancing.ca/wp-content/uploads/2026/04/Baila-2025-Outside-Large.png
END:VEVENT
BEGIN:VEVENT
DTSTART;TZID=America/Toronto:20270606T181500
DTEND;TZID=America/Toronto:20270606T220000
DTSTAMP:20260420T013025
CREATED:20260416T103830Z
LAST-MODIFIED:20260416T103830Z
UID:10000060-1812305700-1812319200@socialdancing.ca
SUMMARY:Baila West Sundays
DESCRIPTION:
URL:https://socialdancing.ca/event/baila-west-sundays/2027-06-06/
LOCATION:Baila West Mississauga\, 40 Stavebank Road North\, Mississauga\, Ontario\, L5G 2T8\, Canada
ATTACH;FMTTYPE=image/png:https://socialdancing.ca/wp-content/uploads/2026/04/Baila-2025-Outside-Large.png
END:VEVENT
BEGIN:VEVENT
DTSTART;TZID=America/Toronto:20270613T181500
DTEND;TZID=America/Toronto:20270613T220000
DTSTAMP:20260420T013025
CREATED:20260416T103830Z
LAST-MODIFIED:20260416T103830Z
UID:10000061-1812910500-1812924000@socialdancing.ca
SUMMARY:Baila West Sundays
DESCRIPTION:
URL:https://socialdancing.ca/event/baila-west-sundays/2027-06-13/
LOCATION:Baila West Mississauga\, 40 Stavebank Road North\, Mississauga\, Ontario\, L5G 2T8\, Canada
ATTACH;FMTTYPE=image/png:https://socialdancing.ca/wp-content/uploads/2026/04/Baila-2025-Outside-Large.png
END:VEVENT
BEGIN:VEVENT
DTSTART;TZID=America/Toronto:20270620T181500
DTEND;TZID=America/Toronto:20270620T220000
DTSTAMP:20260420T013025
CREATED:20260416T103830Z
LAST-MODIFIED:20260416T103830Z
UID:10000062-1813515300-1813528800@socialdancing.ca
SUMMARY:Baila West Sundays
DESCRIPTION:
URL:https://socialdancing.ca/event/baila-west-sundays/2027-06-20/
LOCATION:Baila West Mississauga\, 40 Stavebank Road North\, Mississauga\, Ontario\, L5G 2T8\, Canada
ATTACH;FMTTYPE=image/png:https://socialdancing.ca/wp-content/uploads/2026/04/Baila-2025-Outside-Large.png
END:VEVENT
BEGIN:VEVENT
DTSTART;TZID=America/Toronto:20270627T181500
DTEND;TZID=America/Toronto:20270627T220000
DTSTAMP:20260420T013025
CREATED:20260416T103830Z
LAST-MODIFIED:20260416T103830Z
UID:10000063-1814120100-1814133600@socialdancing.ca
SUMMARY:Baila West Sundays
DESCRIPTION:
URL:https://socialdancing.ca/event/baila-west-sundays/2027-06-27/
LOCATION:Baila West Mississauga\, 40 Stavebank Road North\, Mississauga\, Ontario\, L5G 2T8\, Canada
ATTACH;FMTTYPE=image/png:https://socialdancing.ca/wp-content/uploads/2026/04/Baila-2025-Outside-Large.png
END:VEVENT
BEGIN:VEVENT
DTSTART;TZID=America/Toronto:20270704T181500
DTEND;TZID=America/Toronto:20270704T220000
DTSTAMP:20260420T013025
CREATED:20260416T103830Z
LAST-MODIFIED:20260416T103830Z
UID:10000064-1814724900-1814738400@socialdancing.ca
SUMMARY:Baila West Sundays
DESCRIPTION:
URL:https://socialdancing.ca/event/baila-west-sundays/2027-07-04/
LOCATION:Baila West Mississauga\, 40 Stavebank Road North\, Mississauga\, Ontario\, L5G 2T8\, Canada
ATTACH;FMTTYPE=image/png:https://socialdancing.ca/wp-content/uploads/2026/04/Baila-2025-Outside-Large.png
END:VEVENT
BEGIN:VEVENT
DTSTART;TZID=America/Toronto:20270711T181500
DTEND;TZID=America/Toronto:20270711T220000
DTSTAMP:20260420T013025
CREATED:20260416T103830Z
LAST-MODIFIED:20260416T103830Z
UID:10000065-1815329700-1815343200@socialdancing.ca
SUMMARY:Baila West Sundays
DESCRIPTION:
URL:https://socialdancing.ca/event/baila-west-sundays/2027-07-11/
LOCATION:Baila West Mississauga\, 40 Stavebank Road North\, Mississauga\, Ontario\, L5G 2T8\, Canada
ATTACH;FMTTYPE=image/png:https://socialdancing.ca/wp-content/uploads/2026/04/Baila-2025-Outside-Large.png
END:VEVENT
BEGIN:VEVENT
DTSTART;TZID=America/Toronto:20270718T181500
DTEND;TZID=America/Toronto:20270718T220000
DTSTAMP:20260420T013025
CREATED:20260416T103830Z
LAST-MODIFIED:20260416T103830Z
UID:10000066-1815934500-1815948000@socialdancing.ca
SUMMARY:Baila West Sundays
DESCRIPTION:
URL:https://socialdancing.ca/event/baila-west-sundays/2027-07-18/
LOCATION:Baila West Mississauga\, 40 Stavebank Road North\, Mississauga\, Ontario\, L5G 2T8\, Canada
ATTACH;FMTTYPE=image/png:https://socialdancing.ca/wp-content/uploads/2026/04/Baila-2025-Outside-Large.png
END:VEVENT
BEGIN:VEVENT
DTSTART;TZID=America/Toronto:20270725T181500
DTEND;TZID=America/Toronto:20270725T220000
DTSTAMP:20260420T013025
CREATED:20260416T103830Z
LAST-MODIFIED:20260416T103830Z
UID:10000067-1816539300-1816552800@socialdancing.ca
SUMMARY:Baila West Sundays
DESCRIPTION:
URL:https://socialdancing.ca/event/baila-west-sundays/2027-07-25/
LOCATION:Baila West Mississauga\, 40 Stavebank Road North\, Mississauga\, Ontario\, L5G 2T8\, Canada
ATTACH;FMTTYPE=image/png:https://socialdancing.ca/wp-content/uploads/2026/04/Baila-2025-Outside-Large.png
END:VEVENT
BEGIN:VEVENT
DTSTART;TZID=America/Toronto:20270801T181500
DTEND;TZID=America/Toronto:20270801T220000
DTSTAMP:20260420T013025
CREATED:20260416T103830Z
LAST-MODIFIED:20260416T103830Z
UID:10000068-1817144100-1817157600@socialdancing.ca
SUMMARY:Baila West Sundays
DESCRIPTION:
URL:https://socialdancing.ca/event/baila-west-sundays/2027-08-01/
LOCATION:Baila West Mississauga\, 40 Stavebank Road North\, Mississauga\, Ontario\, L5G 2T8\, Canada
ATTACH;FMTTYPE=image/png:https://socialdancing.ca/wp-content/uploads/2026/04/Baila-2025-Outside-Large.png
END:VEVENT
BEGIN:VEVENT
DTSTART;TZID=America/Toronto:20270808T181500
DTEND;TZID=America/Toronto:20270808T220000
DTSTAMP:20260420T013025
CREATED:20260416T103830Z
LAST-MODIFIED:20260416T103830Z
UID:10000069-1817748900-1817762400@socialdancing.ca
SUMMARY:Baila West Sundays
DESCRIPTION:
URL:https://socialdancing.ca/event/baila-west-sundays/2027-08-08/
LOCATION:Baila West Mississauga\, 40 Stavebank Road North\, Mississauga\, Ontario\, L5G 2T8\, Canada
ATTACH;FMTTYPE=image/png:https://socialdancing.ca/wp-content/uploads/2026/04/Baila-2025-Outside-Large.png
END:VEVENT
BEGIN:VEVENT
DTSTART;TZID=America/Toronto:20270815T181500
DTEND;TZID=America/Toronto:20270815T220000
DTSTAMP:20260420T013025
CREATED:20260416T103830Z
LAST-MODIFIED:20260416T103830Z
UID:10000070-1818353700-1818367200@socialdancing.ca
SUMMARY:Baila West Sundays
DESCRIPTION:
URL:https://socialdancing.ca/event/baila-west-sundays/2027-08-15/
LOCATION:Baila West Mississauga\, 40 Stavebank Road North\, Mississauga\, Ontario\, L5G 2T8\, Canada
ATTACH;FMTTYPE=image/png:https://socialdancing.ca/wp-content/uploads/2026/04/Baila-2025-Outside-Large.png
END:VEVENT
BEGIN:VEVENT
DTSTART;TZID=America/Toronto:20270822T181500
DTEND;TZID=America/Toronto:20270822T220000
DTSTAMP:20260420T013025
CREATED:20260416T103830Z
LAST-MODIFIED:20260416T103830Z
UID:10000071-1818958500-1818972000@socialdancing.ca
SUMMARY:Baila West Sundays
DESCRIPTION:
URL:https://socialdancing.ca/event/baila-west-sundays/2027-08-22/
LOCATION:Baila West Mississauga\, 40 Stavebank Road North\, Mississauga\, Ontario\, L5G 2T8\, Canada
ATTACH;FMTTYPE=image/png:https://socialdancing.ca/wp-content/uploads/2026/04/Baila-2025-Outside-Large.png
END:VEVENT
BEGIN:VEVENT
DTSTART;TZID=America/Toronto:20270829T181500
DTEND;TZID=America/Toronto:20270829T220000
DTSTAMP:20260420T013025
CREATED:20260416T103830Z
LAST-MODIFIED:20260416T103830Z
UID:10000072-1819563300-1819576800@socialdancing.ca
SUMMARY:Baila West Sundays
DESCRIPTION:
URL:https://socialdancing.ca/event/baila-west-sundays/2027-08-29/
LOCATION:Baila West Mississauga\, 40 Stavebank Road North\, Mississauga\, Ontario\, L5G 2T8\, Canada
ATTACH;FMTTYPE=image/png:https://socialdancing.ca/wp-content/uploads/2026/04/Baila-2025-Outside-Large.png
END:VEVENT
BEGIN:VEVENT
DTSTART;TZID=America/Toronto:20270905T181500
DTEND;TZID=America/Toronto:20270905T220000
DTSTAMP:20260420T013025
CREATED:20260416T103830Z
LAST-MODIFIED:20260416T103830Z
UID:10000073-1820168100-1820181600@socialdancing.ca
SUMMARY:Baila West Sundays
DESCRIPTION:
URL:https://socialdancing.ca/event/baila-west-sundays/2027-09-05/
LOCATION:Baila West Mississauga\, 40 Stavebank Road North\, Mississauga\, Ontario\, L5G 2T8\, Canada
ATTACH;FMTTYPE=image/png:https://socialdancing.ca/wp-content/uploads/2026/04/Baila-2025-Outside-Large.png
END:VEVENT
BEGIN:VEVENT
DTSTART;TZID=America/Toronto:20270912T181500
DTEND;TZID=America/Toronto:20270912T220000
DTSTAMP:20260420T013025
CREATED:20260416T103830Z
LAST-MODIFIED:20260416T103830Z
UID:10000074-1820772900-1820786400@socialdancing.ca
SUMMARY:Baila West Sundays
DESCRIPTION:
URL:https://socialdancing.ca/event/baila-west-sundays/2027-09-12/
LOCATION:Baila West Mississauga\, 40 Stavebank Road North\, Mississauga\, Ontario\, L5G 2T8\, Canada
ATTACH;FMTTYPE=image/png:https://socialdancing.ca/wp-content/uploads/2026/04/Baila-2025-Outside-Large.png
END:VEVENT
BEGIN:VEVENT
DTSTART;TZID=America/Toronto:20270919T181500
DTEND;TZID=America/Toronto:20270919T220000
DTSTAMP:20260420T013025
CREATED:20260416T103830Z
LAST-MODIFIED:20260416T103830Z
UID:10000075-1821377700-1821391200@socialdancing.ca
SUMMARY:Baila West Sundays
DESCRIPTION:
URL:https://socialdancing.ca/event/baila-west-sundays/2027-09-19/
LOCATION:Baila West Mississauga\, 40 Stavebank Road North\, Mississauga\, Ontario\, L5G 2T8\, Canada
ATTACH;FMTTYPE=image/png:https://socialdancing.ca/wp-content/uploads/2026/04/Baila-2025-Outside-Large.png
END:VEVENT
BEGIN:VEVENT
DTSTART;TZID=America/Toronto:20270926T181500
DTEND;TZID=America/Toronto:20270926T220000
DTSTAMP:20260420T013025
CREATED:20260416T103830Z
LAST-MODIFIED:20260416T103830Z
UID:10000076-1821982500-1821996000@socialdancing.ca
SUMMARY:Baila West Sundays
DESCRIPTION:
URL:https://socialdancing.ca/event/baila-west-sundays/2027-09-26/
LOCATION:Baila West Mississauga\, 40 Stavebank Road North\, Mississauga\, Ontario\, L5G 2T8\, Canada
ATTACH;FMTTYPE=image/png:https://socialdancing.ca/wp-content/uploads/2026/04/Baila-2025-Outside-Large.png
END:VEVENT
BEGIN:VEVENT
DTSTART;TZID=America/Toronto:20271003T181500
DTEND;TZID=America/Toronto:20271003T220000
DTSTAMP:20260420T013025
CREATED:20260416T103830Z
LAST-MODIFIED:20260416T103830Z
UID:10000077-1822587300-1822600800@socialdancing.ca
SUMMARY:Baila West Sundays
DESCRIPTION:
URL:https://socialdancing.ca/event/baila-west-sundays/2027-10-03/
LOCATION:Baila West Mississauga\, 40 Stavebank Road North\, Mississauga\, Ontario\, L5G 2T8\, Canada
ATTACH;FMTTYPE=image/png:https://socialdancing.ca/wp-content/uploads/2026/04/Baila-2025-Outside-Large.png
END:VEVENT
BEGIN:VEVENT
DTSTART;TZID=America/Toronto:20271010T181500
DTEND;TZID=America/Toronto:20271010T220000
DTSTAMP:20260420T013025
CREATED:20260416T103830Z
LAST-MODIFIED:20260416T103830Z
UID:10000078-1823192100-1823205600@socialdancing.ca
SUMMARY:Baila West Sundays
DESCRIPTION:
URL:https://socialdancing.ca/event/baila-west-sundays/2027-10-10/
LOCATION:Baila West Mississauga\, 40 Stavebank Road North\, Mississauga\, Ontario\, L5G 2T8\, Canada
ATTACH;FMTTYPE=image/png:https://socialdancing.ca/wp-content/uploads/2026/04/Baila-2025-Outside-Large.png
END:VEVENT
BEGIN:VEVENT
DTSTART;TZID=America/Toronto:20271017T181500
DTEND;TZID=America/Toronto:20271017T220000
DTSTAMP:20260420T013025
CREATED:20260416T103830Z
LAST-MODIFIED:20260416T103830Z
UID:10000079-1823796900-1823810400@socialdancing.ca
SUMMARY:Baila West Sundays
DESCRIPTION:
URL:https://socialdancing.ca/event/baila-west-sundays/2027-10-17/
LOCATION:Baila West Mississauga\, 40 Stavebank Road North\, Mississauga\, Ontario\, L5G 2T8\, Canada
ATTACH;FMTTYPE=image/png:https://socialdancing.ca/wp-content/uploads/2026/04/Baila-2025-Outside-Large.png
END:VEVENT
BEGIN:VEVENT
DTSTART;TZID=America/Toronto:20271024T181500
DTEND;TZID=America/Toronto:20271024T220000
DTSTAMP:20260420T013025
CREATED:20260416T103830Z
LAST-MODIFIED:20260416T103830Z
UID:10000080-1824401700-1824415200@socialdancing.ca
SUMMARY:Baila West Sundays
DESCRIPTION:
URL:https://socialdancing.ca/event/baila-west-sundays/2027-10-24/
LOCATION:Baila West Mississauga\, 40 Stavebank Road North\, Mississauga\, Ontario\, L5G 2T8\, Canada
ATTACH;FMTTYPE=image/png:https://socialdancing.ca/wp-content/uploads/2026/04/Baila-2025-Outside-Large.png
END:VEVENT
BEGIN:VEVENT
DTSTART;TZID=America/Toronto:20271031T181500
DTEND;TZID=America/Toronto:20271031T220000
DTSTAMP:20260420T013025
CREATED:20260416T103830Z
LAST-MODIFIED:20260416T103830Z
UID:10000081-1825006500-1825020000@socialdancing.ca
SUMMARY:Baila West Sundays
DESCRIPTION:
URL:https://socialdancing.ca/event/baila-west-sundays/2027-10-31/
LOCATION:Baila West Mississauga\, 40 Stavebank Road North\, Mississauga\, Ontario\, L5G 2T8\, Canada
ATTACH;FMTTYPE=image/png:https://socialdancing.ca/wp-content/uploads/2026/04/Baila-2025-Outside-Large.png
END:VEVENT
BEGIN:VEVENT
DTSTART;TZID=America/Toronto:20271107T181500
DTEND;TZID=America/Toronto:20271107T220000
DTSTAMP:20260420T013025
CREATED:20260416T103830Z
LAST-MODIFIED:20260416T103830Z
UID:10000082-1825611300-1825624800@socialdancing.ca
SUMMARY:Baila West Sundays
DESCRIPTION:
URL:https://socialdancing.ca/event/baila-west-sundays/2027-11-07/
LOCATION:Baila West Mississauga\, 40 Stavebank Road North\, Mississauga\, Ontario\, L5G 2T8\, Canada
ATTACH;FMTTYPE=image/png:https://socialdancing.ca/wp-content/uploads/2026/04/Baila-2025-Outside-Large.png
END:VEVENT
BEGIN:VEVENT
DTSTART;TZID=America/Toronto:20271114T181500
DTEND;TZID=America/Toronto:20271114T220000
DTSTAMP:20260420T013025
CREATED:20260416T103830Z
LAST-MODIFIED:20260416T103830Z
UID:10000083-1826216100-1826229600@socialdancing.ca
SUMMARY:Baila West Sundays
DESCRIPTION:
URL:https://socialdancing.ca/event/baila-west-sundays/2027-11-14/
LOCATION:Baila West Mississauga\, 40 Stavebank Road North\, Mississauga\, Ontario\, L5G 2T8\, Canada
ATTACH;FMTTYPE=image/png:https://socialdancing.ca/wp-content/uploads/2026/04/Baila-2025-Outside-Large.png
END:VEVENT
END:VCALENDAR