BEGIN:VCALENDAR
VERSION:2.0
PRODID:-//socialdancing.ca - ECPv6.15.20//NONSGML v1.0//EN
CALSCALE:GREGORIAN
METHOD:PUBLISH
X-ORIGINAL-URL:https://socialdancing.ca
X-WR-CALDESC:Events for socialdancing.ca
REFRESH-INTERVAL;VALUE=DURATION:PT1H
X-Robots-Tag:noindex
X-PUBLISHED-TTL:PT1H
BEGIN:VTIMEZONE
TZID:America/Toronto
BEGIN:DAYLIGHT
TZOFFSETFROM:-0500
TZOFFSETTO:-0400
TZNAME:EDT
DTSTART:20280312T070000
END:DAYLIGHT
BEGIN:STANDARD
TZOFFSETFROM:-0400
TZOFFSETTO:-0500
TZNAME:EST
DTSTART:20281105T060000
END:STANDARD
BEGIN:DAYLIGHT
TZOFFSETFROM:-0500
TZOFFSETTO:-0400
TZNAME:EDT
DTSTART:20290311T070000
END:DAYLIGHT
BEGIN:STANDARD
TZOFFSETFROM:-0400
TZOFFSETTO:-0500
TZNAME:EST
DTSTART:20291104T060000
END:STANDARD
BEGIN:DAYLIGHT
TZOFFSETFROM:-0500
TZOFFSETTO:-0400
TZNAME:EDT
DTSTART:20300310T070000
END:DAYLIGHT
BEGIN:STANDARD
TZOFFSETFROM:-0400
TZOFFSETTO:-0500
TZNAME:EST
DTSTART:20301103T060000
END:STANDARD
END:VTIMEZONE
BEGIN:VEVENT
DTSTART;TZID=America/Toronto:20290121T181500
DTEND;TZID=America/Toronto:20290121T220000
DTSTAMP:20260420T035608
CREATED:20260416T103830Z
LAST-MODIFIED:20260416T103830Z
UID:10000145-1863713700-1863727200@socialdancing.ca
SUMMARY:Baila West Sundays
DESCRIPTION:
URL:https://socialdancing.ca/event/baila-west-sundays/2029-01-21/
LOCATION:Baila West Mississauga\, 40 Stavebank Road North\, Mississauga\, Ontario\, L5G 2T8\, Canada
ATTACH;FMTTYPE=image/png:https://socialdancing.ca/wp-content/uploads/2026/04/Baila-2025-Outside-Large.png
END:VEVENT
BEGIN:VEVENT
DTSTART;TZID=America/Toronto:20290128T181500
DTEND;TZID=America/Toronto:20290128T220000
DTSTAMP:20260420T035608
CREATED:20260416T103830Z
LAST-MODIFIED:20260416T103830Z
UID:10000146-1864318500-1864332000@socialdancing.ca
SUMMARY:Baila West Sundays
DESCRIPTION:
URL:https://socialdancing.ca/event/baila-west-sundays/2029-01-28/
LOCATION:Baila West Mississauga\, 40 Stavebank Road North\, Mississauga\, Ontario\, L5G 2T8\, Canada
ATTACH;FMTTYPE=image/png:https://socialdancing.ca/wp-content/uploads/2026/04/Baila-2025-Outside-Large.png
END:VEVENT
BEGIN:VEVENT
DTSTART;TZID=America/Toronto:20290204T181500
DTEND;TZID=America/Toronto:20290204T220000
DTSTAMP:20260420T035608
CREATED:20260416T103830Z
LAST-MODIFIED:20260416T103830Z
UID:10000147-1864923300-1864936800@socialdancing.ca
SUMMARY:Baila West Sundays
DESCRIPTION:
URL:https://socialdancing.ca/event/baila-west-sundays/2029-02-04/
LOCATION:Baila West Mississauga\, 40 Stavebank Road North\, Mississauga\, Ontario\, L5G 2T8\, Canada
ATTACH;FMTTYPE=image/png:https://socialdancing.ca/wp-content/uploads/2026/04/Baila-2025-Outside-Large.png
END:VEVENT
BEGIN:VEVENT
DTSTART;TZID=America/Toronto:20290211T181500
DTEND;TZID=America/Toronto:20290211T220000
DTSTAMP:20260420T035608
CREATED:20260416T103830Z
LAST-MODIFIED:20260416T103830Z
UID:10000148-1865528100-1865541600@socialdancing.ca
SUMMARY:Baila West Sundays
DESCRIPTION:
URL:https://socialdancing.ca/event/baila-west-sundays/2029-02-11/
LOCATION:Baila West Mississauga\, 40 Stavebank Road North\, Mississauga\, Ontario\, L5G 2T8\, Canada
ATTACH;FMTTYPE=image/png:https://socialdancing.ca/wp-content/uploads/2026/04/Baila-2025-Outside-Large.png
END:VEVENT
BEGIN:VEVENT
DTSTART;TZID=America/Toronto:20290218T181500
DTEND;TZID=America/Toronto:20290218T220000
DTSTAMP:20260420T035608
CREATED:20260416T103830Z
LAST-MODIFIED:20260416T103830Z
UID:10000149-1866132900-1866146400@socialdancing.ca
SUMMARY:Baila West Sundays
DESCRIPTION:
URL:https://socialdancing.ca/event/baila-west-sundays/2029-02-18/
LOCATION:Baila West Mississauga\, 40 Stavebank Road North\, Mississauga\, Ontario\, L5G 2T8\, Canada
ATTACH;FMTTYPE=image/png:https://socialdancing.ca/wp-content/uploads/2026/04/Baila-2025-Outside-Large.png
END:VEVENT
BEGIN:VEVENT
DTSTART;TZID=America/Toronto:20290225T181500
DTEND;TZID=America/Toronto:20290225T220000
DTSTAMP:20260420T035608
CREATED:20260416T103830Z
LAST-MODIFIED:20260416T103830Z
UID:10000150-1866737700-1866751200@socialdancing.ca
SUMMARY:Baila West Sundays
DESCRIPTION:
URL:https://socialdancing.ca/event/baila-west-sundays/2029-02-25/
LOCATION:Baila West Mississauga\, 40 Stavebank Road North\, Mississauga\, Ontario\, L5G 2T8\, Canada
ATTACH;FMTTYPE=image/png:https://socialdancing.ca/wp-content/uploads/2026/04/Baila-2025-Outside-Large.png
END:VEVENT
BEGIN:VEVENT
DTSTART;TZID=America/Toronto:20290304T181500
DTEND;TZID=America/Toronto:20290304T220000
DTSTAMP:20260420T035608
CREATED:20260416T103830Z
LAST-MODIFIED:20260416T103830Z
UID:10000151-1867342500-1867356000@socialdancing.ca
SUMMARY:Baila West Sundays
DESCRIPTION:
URL:https://socialdancing.ca/event/baila-west-sundays/2029-03-04/
LOCATION:Baila West Mississauga\, 40 Stavebank Road North\, Mississauga\, Ontario\, L5G 2T8\, Canada
ATTACH;FMTTYPE=image/png:https://socialdancing.ca/wp-content/uploads/2026/04/Baila-2025-Outside-Large.png
END:VEVENT
BEGIN:VEVENT
DTSTART;TZID=America/Toronto:20290311T181500
DTEND;TZID=America/Toronto:20290311T220000
DTSTAMP:20260420T035608
CREATED:20260416T103830Z
LAST-MODIFIED:20260416T103830Z
UID:10000152-1867947300-1867960800@socialdancing.ca
SUMMARY:Baila West Sundays
DESCRIPTION:
URL:https://socialdancing.ca/event/baila-west-sundays/2029-03-11/
LOCATION:Baila West Mississauga\, 40 Stavebank Road North\, Mississauga\, Ontario\, L5G 2T8\, Canada
ATTACH;FMTTYPE=image/png:https://socialdancing.ca/wp-content/uploads/2026/04/Baila-2025-Outside-Large.png
END:VEVENT
BEGIN:VEVENT
DTSTART;TZID=America/Toronto:20290318T181500
DTEND;TZID=America/Toronto:20290318T220000
DTSTAMP:20260420T035608
CREATED:20260416T103830Z
LAST-MODIFIED:20260416T103830Z
UID:10000153-1868552100-1868565600@socialdancing.ca
SUMMARY:Baila West Sundays
DESCRIPTION:
URL:https://socialdancing.ca/event/baila-west-sundays/2029-03-18/
LOCATION:Baila West Mississauga\, 40 Stavebank Road North\, Mississauga\, Ontario\, L5G 2T8\, Canada
ATTACH;FMTTYPE=image/png:https://socialdancing.ca/wp-content/uploads/2026/04/Baila-2025-Outside-Large.png
END:VEVENT
BEGIN:VEVENT
DTSTART;TZID=America/Toronto:20290325T181500
DTEND;TZID=America/Toronto:20290325T220000
DTSTAMP:20260420T035608
CREATED:20260416T103830Z
LAST-MODIFIED:20260416T103830Z
UID:10000154-1869156900-1869170400@socialdancing.ca
SUMMARY:Baila West Sundays
DESCRIPTION:
URL:https://socialdancing.ca/event/baila-west-sundays/2029-03-25/
LOCATION:Baila West Mississauga\, 40 Stavebank Road North\, Mississauga\, Ontario\, L5G 2T8\, Canada
ATTACH;FMTTYPE=image/png:https://socialdancing.ca/wp-content/uploads/2026/04/Baila-2025-Outside-Large.png
END:VEVENT
BEGIN:VEVENT
DTSTART;TZID=America/Toronto:20290401T181500
DTEND;TZID=America/Toronto:20290401T220000
DTSTAMP:20260420T035608
CREATED:20260416T103830Z
LAST-MODIFIED:20260416T103830Z
UID:10000155-1869761700-1869775200@socialdancing.ca
SUMMARY:Baila West Sundays
DESCRIPTION:
URL:https://socialdancing.ca/event/baila-west-sundays/2029-04-01/
LOCATION:Baila West Mississauga\, 40 Stavebank Road North\, Mississauga\, Ontario\, L5G 2T8\, Canada
ATTACH;FMTTYPE=image/png:https://socialdancing.ca/wp-content/uploads/2026/04/Baila-2025-Outside-Large.png
END:VEVENT
BEGIN:VEVENT
DTSTART;TZID=America/Toronto:20290408T181500
DTEND;TZID=America/Toronto:20290408T220000
DTSTAMP:20260420T035608
CREATED:20260416T103830Z
LAST-MODIFIED:20260416T103830Z
UID:10000156-1870366500-1870380000@socialdancing.ca
SUMMARY:Baila West Sundays
DESCRIPTION:
URL:https://socialdancing.ca/event/baila-west-sundays/2029-04-08/
LOCATION:Baila West Mississauga\, 40 Stavebank Road North\, Mississauga\, Ontario\, L5G 2T8\, Canada
ATTACH;FMTTYPE=image/png:https://socialdancing.ca/wp-content/uploads/2026/04/Baila-2025-Outside-Large.png
END:VEVENT
BEGIN:VEVENT
DTSTART;TZID=America/Toronto:20290415T181500
DTEND;TZID=America/Toronto:20290415T220000
DTSTAMP:20260420T035608
CREATED:20260416T103830Z
LAST-MODIFIED:20260416T103830Z
UID:10000157-1870971300-1870984800@socialdancing.ca
SUMMARY:Baila West Sundays
DESCRIPTION:
URL:https://socialdancing.ca/event/baila-west-sundays/2029-04-15/
LOCATION:Baila West Mississauga\, 40 Stavebank Road North\, Mississauga\, Ontario\, L5G 2T8\, Canada
ATTACH;FMTTYPE=image/png:https://socialdancing.ca/wp-content/uploads/2026/04/Baila-2025-Outside-Large.png
END:VEVENT
BEGIN:VEVENT
DTSTART;TZID=America/Toronto:20290422T181500
DTEND;TZID=America/Toronto:20290422T220000
DTSTAMP:20260420T035608
CREATED:20260416T103830Z
LAST-MODIFIED:20260416T103830Z
UID:10000158-1871576100-1871589600@socialdancing.ca
SUMMARY:Baila West Sundays
DESCRIPTION:
URL:https://socialdancing.ca/event/baila-west-sundays/2029-04-22/
LOCATION:Baila West Mississauga\, 40 Stavebank Road North\, Mississauga\, Ontario\, L5G 2T8\, Canada
ATTACH;FMTTYPE=image/png:https://socialdancing.ca/wp-content/uploads/2026/04/Baila-2025-Outside-Large.png
END:VEVENT
BEGIN:VEVENT
DTSTART;TZID=America/Toronto:20290429T181500
DTEND;TZID=America/Toronto:20290429T220000
DTSTAMP:20260420T035608
CREATED:20260416T103830Z
LAST-MODIFIED:20260416T103830Z
UID:10000159-1872180900-1872194400@socialdancing.ca
SUMMARY:Baila West Sundays
DESCRIPTION:
URL:https://socialdancing.ca/event/baila-west-sundays/2029-04-29/
LOCATION:Baila West Mississauga\, 40 Stavebank Road North\, Mississauga\, Ontario\, L5G 2T8\, Canada
ATTACH;FMTTYPE=image/png:https://socialdancing.ca/wp-content/uploads/2026/04/Baila-2025-Outside-Large.png
END:VEVENT
BEGIN:VEVENT
DTSTART;TZID=America/Toronto:20290506T181500
DTEND;TZID=America/Toronto:20290506T220000
DTSTAMP:20260420T035608
CREATED:20260416T103830Z
LAST-MODIFIED:20260416T103830Z
UID:10000160-1872785700-1872799200@socialdancing.ca
SUMMARY:Baila West Sundays
DESCRIPTION:
URL:https://socialdancing.ca/event/baila-west-sundays/2029-05-06/
LOCATION:Baila West Mississauga\, 40 Stavebank Road North\, Mississauga\, Ontario\, L5G 2T8\, Canada
ATTACH;FMTTYPE=image/png:https://socialdancing.ca/wp-content/uploads/2026/04/Baila-2025-Outside-Large.png
END:VEVENT
BEGIN:VEVENT
DTSTART;TZID=America/Toronto:20290513T181500
DTEND;TZID=America/Toronto:20290513T220000
DTSTAMP:20260420T035608
CREATED:20260416T103830Z
LAST-MODIFIED:20260416T103830Z
UID:10000161-1873390500-1873404000@socialdancing.ca
SUMMARY:Baila West Sundays
DESCRIPTION:
URL:https://socialdancing.ca/event/baila-west-sundays/2029-05-13/
LOCATION:Baila West Mississauga\, 40 Stavebank Road North\, Mississauga\, Ontario\, L5G 2T8\, Canada
ATTACH;FMTTYPE=image/png:https://socialdancing.ca/wp-content/uploads/2026/04/Baila-2025-Outside-Large.png
END:VEVENT
BEGIN:VEVENT
DTSTART;TZID=America/Toronto:20290520T181500
DTEND;TZID=America/Toronto:20290520T220000
DTSTAMP:20260420T035608
CREATED:20260416T103830Z
LAST-MODIFIED:20260416T103830Z
UID:10000162-1873995300-1874008800@socialdancing.ca
SUMMARY:Baila West Sundays
DESCRIPTION:
URL:https://socialdancing.ca/event/baila-west-sundays/2029-05-20/
LOCATION:Baila West Mississauga\, 40 Stavebank Road North\, Mississauga\, Ontario\, L5G 2T8\, Canada
ATTACH;FMTTYPE=image/png:https://socialdancing.ca/wp-content/uploads/2026/04/Baila-2025-Outside-Large.png
END:VEVENT
BEGIN:VEVENT
DTSTART;TZID=America/Toronto:20290527T181500
DTEND;TZID=America/Toronto:20290527T220000
DTSTAMP:20260420T035608
CREATED:20260416T103830Z
LAST-MODIFIED:20260416T103830Z
UID:10000163-1874600100-1874613600@socialdancing.ca
SUMMARY:Baila West Sundays
DESCRIPTION:
URL:https://socialdancing.ca/event/baila-west-sundays/2029-05-27/
LOCATION:Baila West Mississauga\, 40 Stavebank Road North\, Mississauga\, Ontario\, L5G 2T8\, Canada
ATTACH;FMTTYPE=image/png:https://socialdancing.ca/wp-content/uploads/2026/04/Baila-2025-Outside-Large.png
END:VEVENT
BEGIN:VEVENT
DTSTART;TZID=America/Toronto:20290603T181500
DTEND;TZID=America/Toronto:20290603T220000
DTSTAMP:20260420T035608
CREATED:20260416T103830Z
LAST-MODIFIED:20260416T103830Z
UID:10000164-1875204900-1875218400@socialdancing.ca
SUMMARY:Baila West Sundays
DESCRIPTION:
URL:https://socialdancing.ca/event/baila-west-sundays/2029-06-03/
LOCATION:Baila West Mississauga\, 40 Stavebank Road North\, Mississauga\, Ontario\, L5G 2T8\, Canada
ATTACH;FMTTYPE=image/png:https://socialdancing.ca/wp-content/uploads/2026/04/Baila-2025-Outside-Large.png
END:VEVENT
BEGIN:VEVENT
DTSTART;TZID=America/Toronto:20290610T181500
DTEND;TZID=America/Toronto:20290610T220000
DTSTAMP:20260420T035608
CREATED:20260416T103830Z
LAST-MODIFIED:20260416T103830Z
UID:10000165-1875809700-1875823200@socialdancing.ca
SUMMARY:Baila West Sundays
DESCRIPTION:
URL:https://socialdancing.ca/event/baila-west-sundays/2029-06-10/
LOCATION:Baila West Mississauga\, 40 Stavebank Road North\, Mississauga\, Ontario\, L5G 2T8\, Canada
ATTACH;FMTTYPE=image/png:https://socialdancing.ca/wp-content/uploads/2026/04/Baila-2025-Outside-Large.png
END:VEVENT
BEGIN:VEVENT
DTSTART;TZID=America/Toronto:20290617T181500
DTEND;TZID=America/Toronto:20290617T220000
DTSTAMP:20260420T035608
CREATED:20260416T103830Z
LAST-MODIFIED:20260416T103830Z
UID:10000166-1876414500-1876428000@socialdancing.ca
SUMMARY:Baila West Sundays
DESCRIPTION:
URL:https://socialdancing.ca/event/baila-west-sundays/2029-06-17/
LOCATION:Baila West Mississauga\, 40 Stavebank Road North\, Mississauga\, Ontario\, L5G 2T8\, Canada
ATTACH;FMTTYPE=image/png:https://socialdancing.ca/wp-content/uploads/2026/04/Baila-2025-Outside-Large.png
END:VEVENT
BEGIN:VEVENT
DTSTART;TZID=America/Toronto:20290624T181500
DTEND;TZID=America/Toronto:20290624T220000
DTSTAMP:20260420T035608
CREATED:20260416T103830Z
LAST-MODIFIED:20260416T103830Z
UID:10000167-1877019300-1877032800@socialdancing.ca
SUMMARY:Baila West Sundays
DESCRIPTION:
URL:https://socialdancing.ca/event/baila-west-sundays/2029-06-24/
LOCATION:Baila West Mississauga\, 40 Stavebank Road North\, Mississauga\, Ontario\, L5G 2T8\, Canada
ATTACH;FMTTYPE=image/png:https://socialdancing.ca/wp-content/uploads/2026/04/Baila-2025-Outside-Large.png
END:VEVENT
BEGIN:VEVENT
DTSTART;TZID=America/Toronto:20290701T181500
DTEND;TZID=America/Toronto:20290701T220000
DTSTAMP:20260420T035608
CREATED:20260416T103830Z
LAST-MODIFIED:20260416T103830Z
UID:10000168-1877624100-1877637600@socialdancing.ca
SUMMARY:Baila West Sundays
DESCRIPTION:
URL:https://socialdancing.ca/event/baila-west-sundays/2029-07-01/
LOCATION:Baila West Mississauga\, 40 Stavebank Road North\, Mississauga\, Ontario\, L5G 2T8\, Canada
ATTACH;FMTTYPE=image/png:https://socialdancing.ca/wp-content/uploads/2026/04/Baila-2025-Outside-Large.png
END:VEVENT
BEGIN:VEVENT
DTSTART;TZID=America/Toronto:20290708T181500
DTEND;TZID=America/Toronto:20290708T220000
DTSTAMP:20260420T035608
CREATED:20260416T103830Z
LAST-MODIFIED:20260416T103830Z
UID:10000169-1878228900-1878242400@socialdancing.ca
SUMMARY:Baila West Sundays
DESCRIPTION:
URL:https://socialdancing.ca/event/baila-west-sundays/2029-07-08/
LOCATION:Baila West Mississauga\, 40 Stavebank Road North\, Mississauga\, Ontario\, L5G 2T8\, Canada
ATTACH;FMTTYPE=image/png:https://socialdancing.ca/wp-content/uploads/2026/04/Baila-2025-Outside-Large.png
END:VEVENT
BEGIN:VEVENT
DTSTART;TZID=America/Toronto:20290715T181500
DTEND;TZID=America/Toronto:20290715T220000
DTSTAMP:20260420T035608
CREATED:20260416T103830Z
LAST-MODIFIED:20260416T103830Z
UID:10000170-1878833700-1878847200@socialdancing.ca
SUMMARY:Baila West Sundays
DESCRIPTION:
URL:https://socialdancing.ca/event/baila-west-sundays/2029-07-15/
LOCATION:Baila West Mississauga\, 40 Stavebank Road North\, Mississauga\, Ontario\, L5G 2T8\, Canada
ATTACH;FMTTYPE=image/png:https://socialdancing.ca/wp-content/uploads/2026/04/Baila-2025-Outside-Large.png
END:VEVENT
BEGIN:VEVENT
DTSTART;TZID=America/Toronto:20290722T181500
DTEND;TZID=America/Toronto:20290722T220000
DTSTAMP:20260420T035608
CREATED:20260416T103830Z
LAST-MODIFIED:20260416T103830Z
UID:10000171-1879438500-1879452000@socialdancing.ca
SUMMARY:Baila West Sundays
DESCRIPTION:
URL:https://socialdancing.ca/event/baila-west-sundays/2029-07-22/
LOCATION:Baila West Mississauga\, 40 Stavebank Road North\, Mississauga\, Ontario\, L5G 2T8\, Canada
ATTACH;FMTTYPE=image/png:https://socialdancing.ca/wp-content/uploads/2026/04/Baila-2025-Outside-Large.png
END:VEVENT
BEGIN:VEVENT
DTSTART;TZID=America/Toronto:20290729T181500
DTEND;TZID=America/Toronto:20290729T220000
DTSTAMP:20260420T035608
CREATED:20260416T103830Z
LAST-MODIFIED:20260416T103830Z
UID:10000172-1880043300-1880056800@socialdancing.ca
SUMMARY:Baila West Sundays
DESCRIPTION:
URL:https://socialdancing.ca/event/baila-west-sundays/2029-07-29/
LOCATION:Baila West Mississauga\, 40 Stavebank Road North\, Mississauga\, Ontario\, L5G 2T8\, Canada
ATTACH;FMTTYPE=image/png:https://socialdancing.ca/wp-content/uploads/2026/04/Baila-2025-Outside-Large.png
END:VEVENT
BEGIN:VEVENT
DTSTART;TZID=America/Toronto:20290805T181500
DTEND;TZID=America/Toronto:20290805T220000
DTSTAMP:20260420T035608
CREATED:20260416T103830Z
LAST-MODIFIED:20260416T103830Z
UID:10000173-1880648100-1880661600@socialdancing.ca
SUMMARY:Baila West Sundays
DESCRIPTION:
URL:https://socialdancing.ca/event/baila-west-sundays/2029-08-05/
LOCATION:Baila West Mississauga\, 40 Stavebank Road North\, Mississauga\, Ontario\, L5G 2T8\, Canada
ATTACH;FMTTYPE=image/png:https://socialdancing.ca/wp-content/uploads/2026/04/Baila-2025-Outside-Large.png
END:VEVENT
BEGIN:VEVENT
DTSTART;TZID=America/Toronto:20290812T181500
DTEND;TZID=America/Toronto:20290812T220000
DTSTAMP:20260420T035608
CREATED:20260416T103830Z
LAST-MODIFIED:20260416T103830Z
UID:10000174-1881252900-1881266400@socialdancing.ca
SUMMARY:Baila West Sundays
DESCRIPTION:
URL:https://socialdancing.ca/event/baila-west-sundays/2029-08-12/
LOCATION:Baila West Mississauga\, 40 Stavebank Road North\, Mississauga\, Ontario\, L5G 2T8\, Canada
ATTACH;FMTTYPE=image/png:https://socialdancing.ca/wp-content/uploads/2026/04/Baila-2025-Outside-Large.png
END:VEVENT
END:VCALENDAR