BEGIN:VCALENDAR
VERSION:2.0
PRODID:-//socialdancing.ca - ECPv6.15.20//NONSGML v1.0//EN
CALSCALE:GREGORIAN
METHOD:PUBLISH
X-ORIGINAL-URL:https://socialdancing.ca
X-WR-CALDESC:Events for socialdancing.ca
REFRESH-INTERVAL;VALUE=DURATION:PT1H
X-Robots-Tag:noindex
X-PUBLISHED-TTL:PT1H
BEGIN:VTIMEZONE
TZID:America/Toronto
BEGIN:DAYLIGHT
TZOFFSETFROM:-0500
TZOFFSETTO:-0400
TZNAME:EDT
DTSTART:20260308T070000
END:DAYLIGHT
BEGIN:STANDARD
TZOFFSETFROM:-0400
TZOFFSETTO:-0500
TZNAME:EST
DTSTART:20261101T060000
END:STANDARD
BEGIN:DAYLIGHT
TZOFFSETFROM:-0500
TZOFFSETTO:-0400
TZNAME:EDT
DTSTART:20270314T070000
END:DAYLIGHT
BEGIN:STANDARD
TZOFFSETFROM:-0400
TZOFFSETTO:-0500
TZNAME:EST
DTSTART:20271107T060000
END:STANDARD
BEGIN:DAYLIGHT
TZOFFSETFROM:-0500
TZOFFSETTO:-0400
TZNAME:EDT
DTSTART:20280312T070000
END:DAYLIGHT
BEGIN:STANDARD
TZOFFSETFROM:-0400
TZOFFSETTO:-0500
TZNAME:EST
DTSTART:20281105T060000
END:STANDARD
BEGIN:DAYLIGHT
TZOFFSETFROM:-0500
TZOFFSETTO:-0400
TZNAME:EDT
DTSTART:20290311T070000
END:DAYLIGHT
BEGIN:STANDARD
TZOFFSETFROM:-0400
TZOFFSETTO:-0500
TZNAME:EST
DTSTART:20291104T060000
END:STANDARD
END:VTIMEZONE
BEGIN:VEVENT
DTSTART;TZID=America/Toronto:20271219T181500
DTEND;TZID=America/Toronto:20271219T220000
DTSTAMP:20260420T031219
CREATED:20260416T103830Z
LAST-MODIFIED:20260416T103830Z
UID:10000088-1829240100-1829253600@socialdancing.ca
SUMMARY:Baila West Sundays
DESCRIPTION:
URL:https://socialdancing.ca/event/baila-west-sundays/2027-12-19/
LOCATION:Baila West Mississauga\, 40 Stavebank Road North\, Mississauga\, Ontario\, L5G 2T8\, Canada
ATTACH;FMTTYPE=image/png:https://socialdancing.ca/wp-content/uploads/2026/04/Baila-2025-Outside-Large.png
END:VEVENT
BEGIN:VEVENT
DTSTART;TZID=America/Toronto:20271226T181500
DTEND;TZID=America/Toronto:20271226T220000
DTSTAMP:20260420T031219
CREATED:20260416T103830Z
LAST-MODIFIED:20260416T103830Z
UID:10000089-1829844900-1829858400@socialdancing.ca
SUMMARY:Baila West Sundays
DESCRIPTION:
URL:https://socialdancing.ca/event/baila-west-sundays/2027-12-26/
LOCATION:Baila West Mississauga\, 40 Stavebank Road North\, Mississauga\, Ontario\, L5G 2T8\, Canada
ATTACH;FMTTYPE=image/png:https://socialdancing.ca/wp-content/uploads/2026/04/Baila-2025-Outside-Large.png
END:VEVENT
BEGIN:VEVENT
DTSTART;TZID=America/Toronto:20280102T181500
DTEND;TZID=America/Toronto:20280102T220000
DTSTAMP:20260420T031219
CREATED:20260416T103830Z
LAST-MODIFIED:20260416T103830Z
UID:10000090-1830449700-1830463200@socialdancing.ca
SUMMARY:Baila West Sundays
DESCRIPTION:
URL:https://socialdancing.ca/event/baila-west-sundays/2028-01-02/
LOCATION:Baila West Mississauga\, 40 Stavebank Road North\, Mississauga\, Ontario\, L5G 2T8\, Canada
ATTACH;FMTTYPE=image/png:https://socialdancing.ca/wp-content/uploads/2026/04/Baila-2025-Outside-Large.png
END:VEVENT
BEGIN:VEVENT
DTSTART;TZID=America/Toronto:20280109T181500
DTEND;TZID=America/Toronto:20280109T220000
DTSTAMP:20260420T031219
CREATED:20260416T103830Z
LAST-MODIFIED:20260416T103830Z
UID:10000091-1831054500-1831068000@socialdancing.ca
SUMMARY:Baila West Sundays
DESCRIPTION:
URL:https://socialdancing.ca/event/baila-west-sundays/2028-01-09/
LOCATION:Baila West Mississauga\, 40 Stavebank Road North\, Mississauga\, Ontario\, L5G 2T8\, Canada
ATTACH;FMTTYPE=image/png:https://socialdancing.ca/wp-content/uploads/2026/04/Baila-2025-Outside-Large.png
END:VEVENT
BEGIN:VEVENT
DTSTART;TZID=America/Toronto:20280116T181500
DTEND;TZID=America/Toronto:20280116T220000
DTSTAMP:20260420T031219
CREATED:20260416T103830Z
LAST-MODIFIED:20260416T103830Z
UID:10000092-1831659300-1831672800@socialdancing.ca
SUMMARY:Baila West Sundays
DESCRIPTION:
URL:https://socialdancing.ca/event/baila-west-sundays/2028-01-16/
LOCATION:Baila West Mississauga\, 40 Stavebank Road North\, Mississauga\, Ontario\, L5G 2T8\, Canada
ATTACH;FMTTYPE=image/png:https://socialdancing.ca/wp-content/uploads/2026/04/Baila-2025-Outside-Large.png
END:VEVENT
BEGIN:VEVENT
DTSTART;TZID=America/Toronto:20280123T181500
DTEND;TZID=America/Toronto:20280123T220000
DTSTAMP:20260420T031219
CREATED:20260416T103830Z
LAST-MODIFIED:20260416T103830Z
UID:10000093-1832264100-1832277600@socialdancing.ca
SUMMARY:Baila West Sundays
DESCRIPTION:
URL:https://socialdancing.ca/event/baila-west-sundays/2028-01-23/
LOCATION:Baila West Mississauga\, 40 Stavebank Road North\, Mississauga\, Ontario\, L5G 2T8\, Canada
ATTACH;FMTTYPE=image/png:https://socialdancing.ca/wp-content/uploads/2026/04/Baila-2025-Outside-Large.png
END:VEVENT
BEGIN:VEVENT
DTSTART;TZID=America/Toronto:20280130T181500
DTEND;TZID=America/Toronto:20280130T220000
DTSTAMP:20260420T031219
CREATED:20260416T103830Z
LAST-MODIFIED:20260416T103830Z
UID:10000094-1832868900-1832882400@socialdancing.ca
SUMMARY:Baila West Sundays
DESCRIPTION:
URL:https://socialdancing.ca/event/baila-west-sundays/2028-01-30/
LOCATION:Baila West Mississauga\, 40 Stavebank Road North\, Mississauga\, Ontario\, L5G 2T8\, Canada
ATTACH;FMTTYPE=image/png:https://socialdancing.ca/wp-content/uploads/2026/04/Baila-2025-Outside-Large.png
END:VEVENT
BEGIN:VEVENT
DTSTART;TZID=America/Toronto:20280206T181500
DTEND;TZID=America/Toronto:20280206T220000
DTSTAMP:20260420T031219
CREATED:20260416T103830Z
LAST-MODIFIED:20260416T103830Z
UID:10000095-1833473700-1833487200@socialdancing.ca
SUMMARY:Baila West Sundays
DESCRIPTION:
URL:https://socialdancing.ca/event/baila-west-sundays/2028-02-06/
LOCATION:Baila West Mississauga\, 40 Stavebank Road North\, Mississauga\, Ontario\, L5G 2T8\, Canada
ATTACH;FMTTYPE=image/png:https://socialdancing.ca/wp-content/uploads/2026/04/Baila-2025-Outside-Large.png
END:VEVENT
BEGIN:VEVENT
DTSTART;TZID=America/Toronto:20280213T181500
DTEND;TZID=America/Toronto:20280213T220000
DTSTAMP:20260420T031219
CREATED:20260416T103830Z
LAST-MODIFIED:20260416T103830Z
UID:10000096-1834078500-1834092000@socialdancing.ca
SUMMARY:Baila West Sundays
DESCRIPTION:
URL:https://socialdancing.ca/event/baila-west-sundays/2028-02-13/
LOCATION:Baila West Mississauga\, 40 Stavebank Road North\, Mississauga\, Ontario\, L5G 2T8\, Canada
ATTACH;FMTTYPE=image/png:https://socialdancing.ca/wp-content/uploads/2026/04/Baila-2025-Outside-Large.png
END:VEVENT
BEGIN:VEVENT
DTSTART;TZID=America/Toronto:20280220T181500
DTEND;TZID=America/Toronto:20280220T220000
DTSTAMP:20260420T031219
CREATED:20260416T103830Z
LAST-MODIFIED:20260416T103830Z
UID:10000097-1834683300-1834696800@socialdancing.ca
SUMMARY:Baila West Sundays
DESCRIPTION:
URL:https://socialdancing.ca/event/baila-west-sundays/2028-02-20/
LOCATION:Baila West Mississauga\, 40 Stavebank Road North\, Mississauga\, Ontario\, L5G 2T8\, Canada
ATTACH;FMTTYPE=image/png:https://socialdancing.ca/wp-content/uploads/2026/04/Baila-2025-Outside-Large.png
END:VEVENT
BEGIN:VEVENT
DTSTART;TZID=America/Toronto:20280227T181500
DTEND;TZID=America/Toronto:20280227T220000
DTSTAMP:20260420T031219
CREATED:20260416T103830Z
LAST-MODIFIED:20260416T103830Z
UID:10000098-1835288100-1835301600@socialdancing.ca
SUMMARY:Baila West Sundays
DESCRIPTION:
URL:https://socialdancing.ca/event/baila-west-sundays/2028-02-27/
LOCATION:Baila West Mississauga\, 40 Stavebank Road North\, Mississauga\, Ontario\, L5G 2T8\, Canada
ATTACH;FMTTYPE=image/png:https://socialdancing.ca/wp-content/uploads/2026/04/Baila-2025-Outside-Large.png
END:VEVENT
BEGIN:VEVENT
DTSTART;TZID=America/Toronto:20280305T181500
DTEND;TZID=America/Toronto:20280305T220000
DTSTAMP:20260420T031219
CREATED:20260416T103830Z
LAST-MODIFIED:20260416T103830Z
UID:10000099-1835892900-1835906400@socialdancing.ca
SUMMARY:Baila West Sundays
DESCRIPTION:
URL:https://socialdancing.ca/event/baila-west-sundays/2028-03-05/
LOCATION:Baila West Mississauga\, 40 Stavebank Road North\, Mississauga\, Ontario\, L5G 2T8\, Canada
ATTACH;FMTTYPE=image/png:https://socialdancing.ca/wp-content/uploads/2026/04/Baila-2025-Outside-Large.png
END:VEVENT
BEGIN:VEVENT
DTSTART;TZID=America/Toronto:20280312T181500
DTEND;TZID=America/Toronto:20280312T220000
DTSTAMP:20260420T031219
CREATED:20260416T103830Z
LAST-MODIFIED:20260416T103830Z
UID:10000100-1836497700-1836511200@socialdancing.ca
SUMMARY:Baila West Sundays
DESCRIPTION:
URL:https://socialdancing.ca/event/baila-west-sundays/2028-03-12/
LOCATION:Baila West Mississauga\, 40 Stavebank Road North\, Mississauga\, Ontario\, L5G 2T8\, Canada
ATTACH;FMTTYPE=image/png:https://socialdancing.ca/wp-content/uploads/2026/04/Baila-2025-Outside-Large.png
END:VEVENT
BEGIN:VEVENT
DTSTART;TZID=America/Toronto:20280319T181500
DTEND;TZID=America/Toronto:20280319T220000
DTSTAMP:20260420T031219
CREATED:20260416T103830Z
LAST-MODIFIED:20260416T103830Z
UID:10000101-1837102500-1837116000@socialdancing.ca
SUMMARY:Baila West Sundays
DESCRIPTION:
URL:https://socialdancing.ca/event/baila-west-sundays/2028-03-19/
LOCATION:Baila West Mississauga\, 40 Stavebank Road North\, Mississauga\, Ontario\, L5G 2T8\, Canada
ATTACH;FMTTYPE=image/png:https://socialdancing.ca/wp-content/uploads/2026/04/Baila-2025-Outside-Large.png
END:VEVENT
BEGIN:VEVENT
DTSTART;TZID=America/Toronto:20280326T181500
DTEND;TZID=America/Toronto:20280326T220000
DTSTAMP:20260420T031219
CREATED:20260416T103830Z
LAST-MODIFIED:20260416T103830Z
UID:10000102-1837707300-1837720800@socialdancing.ca
SUMMARY:Baila West Sundays
DESCRIPTION:
URL:https://socialdancing.ca/event/baila-west-sundays/2028-03-26/
LOCATION:Baila West Mississauga\, 40 Stavebank Road North\, Mississauga\, Ontario\, L5G 2T8\, Canada
ATTACH;FMTTYPE=image/png:https://socialdancing.ca/wp-content/uploads/2026/04/Baila-2025-Outside-Large.png
END:VEVENT
BEGIN:VEVENT
DTSTART;TZID=America/Toronto:20280402T181500
DTEND;TZID=America/Toronto:20280402T220000
DTSTAMP:20260420T031219
CREATED:20260416T103830Z
LAST-MODIFIED:20260416T103830Z
UID:10000103-1838312100-1838325600@socialdancing.ca
SUMMARY:Baila West Sundays
DESCRIPTION:
URL:https://socialdancing.ca/event/baila-west-sundays/2028-04-02/
LOCATION:Baila West Mississauga\, 40 Stavebank Road North\, Mississauga\, Ontario\, L5G 2T8\, Canada
ATTACH;FMTTYPE=image/png:https://socialdancing.ca/wp-content/uploads/2026/04/Baila-2025-Outside-Large.png
END:VEVENT
BEGIN:VEVENT
DTSTART;TZID=America/Toronto:20280409T181500
DTEND;TZID=America/Toronto:20280409T220000
DTSTAMP:20260420T031219
CREATED:20260416T103830Z
LAST-MODIFIED:20260416T103830Z
UID:10000104-1838916900-1838930400@socialdancing.ca
SUMMARY:Baila West Sundays
DESCRIPTION:
URL:https://socialdancing.ca/event/baila-west-sundays/2028-04-09/
LOCATION:Baila West Mississauga\, 40 Stavebank Road North\, Mississauga\, Ontario\, L5G 2T8\, Canada
ATTACH;FMTTYPE=image/png:https://socialdancing.ca/wp-content/uploads/2026/04/Baila-2025-Outside-Large.png
END:VEVENT
BEGIN:VEVENT
DTSTART;TZID=America/Toronto:20280416T181500
DTEND;TZID=America/Toronto:20280416T220000
DTSTAMP:20260420T031219
CREATED:20260416T103830Z
LAST-MODIFIED:20260416T103830Z
UID:10000105-1839521700-1839535200@socialdancing.ca
SUMMARY:Baila West Sundays
DESCRIPTION:
URL:https://socialdancing.ca/event/baila-west-sundays/2028-04-16/
LOCATION:Baila West Mississauga\, 40 Stavebank Road North\, Mississauga\, Ontario\, L5G 2T8\, Canada
ATTACH;FMTTYPE=image/png:https://socialdancing.ca/wp-content/uploads/2026/04/Baila-2025-Outside-Large.png
END:VEVENT
BEGIN:VEVENT
DTSTART;TZID=America/Toronto:20280423T181500
DTEND;TZID=America/Toronto:20280423T220000
DTSTAMP:20260420T031219
CREATED:20260416T103830Z
LAST-MODIFIED:20260416T103830Z
UID:10000106-1840126500-1840140000@socialdancing.ca
SUMMARY:Baila West Sundays
DESCRIPTION:
URL:https://socialdancing.ca/event/baila-west-sundays/2028-04-23/
LOCATION:Baila West Mississauga\, 40 Stavebank Road North\, Mississauga\, Ontario\, L5G 2T8\, Canada
ATTACH;FMTTYPE=image/png:https://socialdancing.ca/wp-content/uploads/2026/04/Baila-2025-Outside-Large.png
END:VEVENT
BEGIN:VEVENT
DTSTART;TZID=America/Toronto:20280430T181500
DTEND;TZID=America/Toronto:20280430T220000
DTSTAMP:20260420T031219
CREATED:20260416T103830Z
LAST-MODIFIED:20260416T103830Z
UID:10000107-1840731300-1840744800@socialdancing.ca
SUMMARY:Baila West Sundays
DESCRIPTION:
URL:https://socialdancing.ca/event/baila-west-sundays/2028-04-30/
LOCATION:Baila West Mississauga\, 40 Stavebank Road North\, Mississauga\, Ontario\, L5G 2T8\, Canada
ATTACH;FMTTYPE=image/png:https://socialdancing.ca/wp-content/uploads/2026/04/Baila-2025-Outside-Large.png
END:VEVENT
BEGIN:VEVENT
DTSTART;TZID=America/Toronto:20280507T181500
DTEND;TZID=America/Toronto:20280507T220000
DTSTAMP:20260420T031219
CREATED:20260416T103830Z
LAST-MODIFIED:20260416T103830Z
UID:10000108-1841336100-1841349600@socialdancing.ca
SUMMARY:Baila West Sundays
DESCRIPTION:
URL:https://socialdancing.ca/event/baila-west-sundays/2028-05-07/
LOCATION:Baila West Mississauga\, 40 Stavebank Road North\, Mississauga\, Ontario\, L5G 2T8\, Canada
ATTACH;FMTTYPE=image/png:https://socialdancing.ca/wp-content/uploads/2026/04/Baila-2025-Outside-Large.png
END:VEVENT
BEGIN:VEVENT
DTSTART;TZID=America/Toronto:20280514T181500
DTEND;TZID=America/Toronto:20280514T220000
DTSTAMP:20260420T031219
CREATED:20260416T103830Z
LAST-MODIFIED:20260416T103830Z
UID:10000109-1841940900-1841954400@socialdancing.ca
SUMMARY:Baila West Sundays
DESCRIPTION:
URL:https://socialdancing.ca/event/baila-west-sundays/2028-05-14/
LOCATION:Baila West Mississauga\, 40 Stavebank Road North\, Mississauga\, Ontario\, L5G 2T8\, Canada
ATTACH;FMTTYPE=image/png:https://socialdancing.ca/wp-content/uploads/2026/04/Baila-2025-Outside-Large.png
END:VEVENT
BEGIN:VEVENT
DTSTART;TZID=America/Toronto:20280521T181500
DTEND;TZID=America/Toronto:20280521T220000
DTSTAMP:20260420T031219
CREATED:20260416T103830Z
LAST-MODIFIED:20260416T103830Z
UID:10000110-1842545700-1842559200@socialdancing.ca
SUMMARY:Baila West Sundays
DESCRIPTION:
URL:https://socialdancing.ca/event/baila-west-sundays/2028-05-21/
LOCATION:Baila West Mississauga\, 40 Stavebank Road North\, Mississauga\, Ontario\, L5G 2T8\, Canada
ATTACH;FMTTYPE=image/png:https://socialdancing.ca/wp-content/uploads/2026/04/Baila-2025-Outside-Large.png
END:VEVENT
BEGIN:VEVENT
DTSTART;TZID=America/Toronto:20280528T181500
DTEND;TZID=America/Toronto:20280528T220000
DTSTAMP:20260420T031219
CREATED:20260416T103830Z
LAST-MODIFIED:20260416T103830Z
UID:10000111-1843150500-1843164000@socialdancing.ca
SUMMARY:Baila West Sundays
DESCRIPTION:
URL:https://socialdancing.ca/event/baila-west-sundays/2028-05-28/
LOCATION:Baila West Mississauga\, 40 Stavebank Road North\, Mississauga\, Ontario\, L5G 2T8\, Canada
ATTACH;FMTTYPE=image/png:https://socialdancing.ca/wp-content/uploads/2026/04/Baila-2025-Outside-Large.png
END:VEVENT
BEGIN:VEVENT
DTSTART;TZID=America/Toronto:20280604T181500
DTEND;TZID=America/Toronto:20280604T220000
DTSTAMP:20260420T031219
CREATED:20260416T103830Z
LAST-MODIFIED:20260416T103830Z
UID:10000112-1843755300-1843768800@socialdancing.ca
SUMMARY:Baila West Sundays
DESCRIPTION:
URL:https://socialdancing.ca/event/baila-west-sundays/2028-06-04/
LOCATION:Baila West Mississauga\, 40 Stavebank Road North\, Mississauga\, Ontario\, L5G 2T8\, Canada
ATTACH;FMTTYPE=image/png:https://socialdancing.ca/wp-content/uploads/2026/04/Baila-2025-Outside-Large.png
END:VEVENT
BEGIN:VEVENT
DTSTART;TZID=America/Toronto:20280611T181500
DTEND;TZID=America/Toronto:20280611T220000
DTSTAMP:20260420T031219
CREATED:20260416T103830Z
LAST-MODIFIED:20260416T103830Z
UID:10000113-1844360100-1844373600@socialdancing.ca
SUMMARY:Baila West Sundays
DESCRIPTION:
URL:https://socialdancing.ca/event/baila-west-sundays/2028-06-11/
LOCATION:Baila West Mississauga\, 40 Stavebank Road North\, Mississauga\, Ontario\, L5G 2T8\, Canada
ATTACH;FMTTYPE=image/png:https://socialdancing.ca/wp-content/uploads/2026/04/Baila-2025-Outside-Large.png
END:VEVENT
BEGIN:VEVENT
DTSTART;TZID=America/Toronto:20280618T181500
DTEND;TZID=America/Toronto:20280618T220000
DTSTAMP:20260420T031219
CREATED:20260416T103830Z
LAST-MODIFIED:20260416T103830Z
UID:10000114-1844964900-1844978400@socialdancing.ca
SUMMARY:Baila West Sundays
DESCRIPTION:
URL:https://socialdancing.ca/event/baila-west-sundays/2028-06-18/
LOCATION:Baila West Mississauga\, 40 Stavebank Road North\, Mississauga\, Ontario\, L5G 2T8\, Canada
ATTACH;FMTTYPE=image/png:https://socialdancing.ca/wp-content/uploads/2026/04/Baila-2025-Outside-Large.png
END:VEVENT
BEGIN:VEVENT
DTSTART;TZID=America/Toronto:20280625T181500
DTEND;TZID=America/Toronto:20280625T220000
DTSTAMP:20260420T031219
CREATED:20260416T103830Z
LAST-MODIFIED:20260416T103830Z
UID:10000115-1845569700-1845583200@socialdancing.ca
SUMMARY:Baila West Sundays
DESCRIPTION:
URL:https://socialdancing.ca/event/baila-west-sundays/2028-06-25/
LOCATION:Baila West Mississauga\, 40 Stavebank Road North\, Mississauga\, Ontario\, L5G 2T8\, Canada
ATTACH;FMTTYPE=image/png:https://socialdancing.ca/wp-content/uploads/2026/04/Baila-2025-Outside-Large.png
END:VEVENT
BEGIN:VEVENT
DTSTART;TZID=America/Toronto:20280702T181500
DTEND;TZID=America/Toronto:20280702T220000
DTSTAMP:20260420T031219
CREATED:20260416T103830Z
LAST-MODIFIED:20260416T103830Z
UID:10000116-1846174500-1846188000@socialdancing.ca
SUMMARY:Baila West Sundays
DESCRIPTION:
URL:https://socialdancing.ca/event/baila-west-sundays/2028-07-02/
LOCATION:Baila West Mississauga\, 40 Stavebank Road North\, Mississauga\, Ontario\, L5G 2T8\, Canada
ATTACH;FMTTYPE=image/png:https://socialdancing.ca/wp-content/uploads/2026/04/Baila-2025-Outside-Large.png
END:VEVENT
BEGIN:VEVENT
DTSTART;TZID=America/Toronto:20280709T181500
DTEND;TZID=America/Toronto:20280709T220000
DTSTAMP:20260420T031219
CREATED:20260416T103830Z
LAST-MODIFIED:20260416T103830Z
UID:10000117-1846779300-1846792800@socialdancing.ca
SUMMARY:Baila West Sundays
DESCRIPTION:
URL:https://socialdancing.ca/event/baila-west-sundays/2028-07-09/
LOCATION:Baila West Mississauga\, 40 Stavebank Road North\, Mississauga\, Ontario\, L5G 2T8\, Canada
ATTACH;FMTTYPE=image/png:https://socialdancing.ca/wp-content/uploads/2026/04/Baila-2025-Outside-Large.png
END:VEVENT
END:VCALENDAR