BEGIN:VCALENDAR
VERSION:2.0
PRODID:-//socialdancing.ca - ECPv6.15.20//NONSGML v1.0//EN
CALSCALE:GREGORIAN
METHOD:PUBLISH
X-WR-CALNAME:socialdancing.ca
X-ORIGINAL-URL:https://socialdancing.ca
X-WR-CALDESC:Events for socialdancing.ca
REFRESH-INTERVAL;VALUE=DURATION:PT1H
X-Robots-Tag:noindex
X-PUBLISHED-TTL:PT1H
BEGIN:VTIMEZONE
TZID:America/Toronto
BEGIN:DAYLIGHT
TZOFFSETFROM:-0500
TZOFFSETTO:-0400
TZNAME:EDT
DTSTART:20290311T070000
END:DAYLIGHT
BEGIN:STANDARD
TZOFFSETFROM:-0400
TZOFFSETTO:-0500
TZNAME:EST
DTSTART:20291104T060000
END:STANDARD
BEGIN:DAYLIGHT
TZOFFSETFROM:-0500
TZOFFSETTO:-0400
TZNAME:EDT
DTSTART:20300310T070000
END:DAYLIGHT
BEGIN:STANDARD
TZOFFSETFROM:-0400
TZOFFSETTO:-0500
TZNAME:EST
DTSTART:20301103T060000
END:STANDARD
BEGIN:DAYLIGHT
TZOFFSETFROM:-0500
TZOFFSETTO:-0400
TZNAME:EDT
DTSTART:20310309T070000
END:DAYLIGHT
BEGIN:STANDARD
TZOFFSETFROM:-0400
TZOFFSETTO:-0500
TZNAME:EST
DTSTART:20311102T060000
END:STANDARD
BEGIN:DAYLIGHT
TZOFFSETFROM:-0500
TZOFFSETTO:-0400
TZNAME:EDT
DTSTART:20320314T070000
END:DAYLIGHT
BEGIN:STANDARD
TZOFFSETFROM:-0400
TZOFFSETTO:-0500
TZNAME:EST
DTSTART:20321107T060000
END:STANDARD
END:VTIMEZONE
BEGIN:VEVENT
DTSTART;TZID=America/Toronto:20301222T181500
DTEND;TZID=America/Toronto:20301222T220000
DTSTAMP:20260420T203251
CREATED:20260416T103830Z
LAST-MODIFIED:20260416T103830Z
UID:10000245-1924193700-1924207200@socialdancing.ca
SUMMARY:Baila West Sundays
DESCRIPTION:
URL:https://socialdancing.ca/event/baila-west-sundays/2030-12-22/
LOCATION:Baila West Mississauga\, 40 Stavebank Road North\, Mississauga\, Ontario\, L5G 2T8\, Canada
ATTACH;FMTTYPE=image/png:https://socialdancing.ca/wp-content/uploads/2026/04/Baila-2025-Outside-Large.png
END:VEVENT
BEGIN:VEVENT
DTSTART;TZID=America/Toronto:20301229T181500
DTEND;TZID=America/Toronto:20301229T220000
DTSTAMP:20260420T203251
CREATED:20260416T103830Z
LAST-MODIFIED:20260416T103830Z
UID:10000246-1924798500-1924812000@socialdancing.ca
SUMMARY:Baila West Sundays
DESCRIPTION:
URL:https://socialdancing.ca/event/baila-west-sundays/2030-12-29/
LOCATION:Baila West Mississauga\, 40 Stavebank Road North\, Mississauga\, Ontario\, L5G 2T8\, Canada
ATTACH;FMTTYPE=image/png:https://socialdancing.ca/wp-content/uploads/2026/04/Baila-2025-Outside-Large.png
END:VEVENT
BEGIN:VEVENT
DTSTART;TZID=America/Toronto:20310105T181500
DTEND;TZID=America/Toronto:20310105T220000
DTSTAMP:20260420T203251
CREATED:20260416T103830Z
LAST-MODIFIED:20260416T103830Z
UID:10000247-1925403300-1925416800@socialdancing.ca
SUMMARY:Baila West Sundays
DESCRIPTION:
URL:https://socialdancing.ca/event/baila-west-sundays/2031-01-05/
LOCATION:Baila West Mississauga\, 40 Stavebank Road North\, Mississauga\, Ontario\, L5G 2T8\, Canada
ATTACH;FMTTYPE=image/png:https://socialdancing.ca/wp-content/uploads/2026/04/Baila-2025-Outside-Large.png
END:VEVENT
BEGIN:VEVENT
DTSTART;TZID=America/Toronto:20310112T181500
DTEND;TZID=America/Toronto:20310112T220000
DTSTAMP:20260420T203251
CREATED:20260416T103830Z
LAST-MODIFIED:20260416T103830Z
UID:10000248-1926008100-1926021600@socialdancing.ca
SUMMARY:Baila West Sundays
DESCRIPTION:
URL:https://socialdancing.ca/event/baila-west-sundays/2031-01-12/
LOCATION:Baila West Mississauga\, 40 Stavebank Road North\, Mississauga\, Ontario\, L5G 2T8\, Canada
ATTACH;FMTTYPE=image/png:https://socialdancing.ca/wp-content/uploads/2026/04/Baila-2025-Outside-Large.png
END:VEVENT
BEGIN:VEVENT
DTSTART;TZID=America/Toronto:20310119T181500
DTEND;TZID=America/Toronto:20310119T220000
DTSTAMP:20260420T203251
CREATED:20260416T103830Z
LAST-MODIFIED:20260416T103830Z
UID:10000249-1926612900-1926626400@socialdancing.ca
SUMMARY:Baila West Sundays
DESCRIPTION:
URL:https://socialdancing.ca/event/baila-west-sundays/2031-01-19/
LOCATION:Baila West Mississauga\, 40 Stavebank Road North\, Mississauga\, Ontario\, L5G 2T8\, Canada
ATTACH;FMTTYPE=image/png:https://socialdancing.ca/wp-content/uploads/2026/04/Baila-2025-Outside-Large.png
END:VEVENT
BEGIN:VEVENT
DTSTART;TZID=America/Toronto:20310126T181500
DTEND;TZID=America/Toronto:20310126T220000
DTSTAMP:20260420T203251
CREATED:20260416T103830Z
LAST-MODIFIED:20260416T103830Z
UID:10000250-1927217700-1927231200@socialdancing.ca
SUMMARY:Baila West Sundays
DESCRIPTION:
URL:https://socialdancing.ca/event/baila-west-sundays/2031-01-26/
LOCATION:Baila West Mississauga\, 40 Stavebank Road North\, Mississauga\, Ontario\, L5G 2T8\, Canada
ATTACH;FMTTYPE=image/png:https://socialdancing.ca/wp-content/uploads/2026/04/Baila-2025-Outside-Large.png
END:VEVENT
BEGIN:VEVENT
DTSTART;TZID=America/Toronto:20310202T181500
DTEND;TZID=America/Toronto:20310202T220000
DTSTAMP:20260420T203251
CREATED:20260416T103830Z
LAST-MODIFIED:20260416T103830Z
UID:10000251-1927822500-1927836000@socialdancing.ca
SUMMARY:Baila West Sundays
DESCRIPTION:
URL:https://socialdancing.ca/event/baila-west-sundays/2031-02-02/
LOCATION:Baila West Mississauga\, 40 Stavebank Road North\, Mississauga\, Ontario\, L5G 2T8\, Canada
ATTACH;FMTTYPE=image/png:https://socialdancing.ca/wp-content/uploads/2026/04/Baila-2025-Outside-Large.png
END:VEVENT
BEGIN:VEVENT
DTSTART;TZID=America/Toronto:20310209T181500
DTEND;TZID=America/Toronto:20310209T220000
DTSTAMP:20260420T203251
CREATED:20260416T103830Z
LAST-MODIFIED:20260416T103830Z
UID:10000252-1928427300-1928440800@socialdancing.ca
SUMMARY:Baila West Sundays
DESCRIPTION:
URL:https://socialdancing.ca/event/baila-west-sundays/2031-02-09/
LOCATION:Baila West Mississauga\, 40 Stavebank Road North\, Mississauga\, Ontario\, L5G 2T8\, Canada
ATTACH;FMTTYPE=image/png:https://socialdancing.ca/wp-content/uploads/2026/04/Baila-2025-Outside-Large.png
END:VEVENT
BEGIN:VEVENT
DTSTART;TZID=America/Toronto:20310216T181500
DTEND;TZID=America/Toronto:20310216T220000
DTSTAMP:20260420T203251
CREATED:20260416T103830Z
LAST-MODIFIED:20260416T103830Z
UID:10000253-1929032100-1929045600@socialdancing.ca
SUMMARY:Baila West Sundays
DESCRIPTION:
URL:https://socialdancing.ca/event/baila-west-sundays/2031-02-16/
LOCATION:Baila West Mississauga\, 40 Stavebank Road North\, Mississauga\, Ontario\, L5G 2T8\, Canada
ATTACH;FMTTYPE=image/png:https://socialdancing.ca/wp-content/uploads/2026/04/Baila-2025-Outside-Large.png
END:VEVENT
BEGIN:VEVENT
DTSTART;TZID=America/Toronto:20310223T181500
DTEND;TZID=America/Toronto:20310223T220000
DTSTAMP:20260420T203251
CREATED:20260416T103830Z
LAST-MODIFIED:20260416T103830Z
UID:10000254-1929636900-1929650400@socialdancing.ca
SUMMARY:Baila West Sundays
DESCRIPTION:
URL:https://socialdancing.ca/event/baila-west-sundays/2031-02-23/
LOCATION:Baila West Mississauga\, 40 Stavebank Road North\, Mississauga\, Ontario\, L5G 2T8\, Canada
ATTACH;FMTTYPE=image/png:https://socialdancing.ca/wp-content/uploads/2026/04/Baila-2025-Outside-Large.png
END:VEVENT
BEGIN:VEVENT
DTSTART;TZID=America/Toronto:20310302T181500
DTEND;TZID=America/Toronto:20310302T220000
DTSTAMP:20260420T203251
CREATED:20260416T103830Z
LAST-MODIFIED:20260416T103830Z
UID:10000255-1930241700-1930255200@socialdancing.ca
SUMMARY:Baila West Sundays
DESCRIPTION:
URL:https://socialdancing.ca/event/baila-west-sundays/2031-03-02/
LOCATION:Baila West Mississauga\, 40 Stavebank Road North\, Mississauga\, Ontario\, L5G 2T8\, Canada
ATTACH;FMTTYPE=image/png:https://socialdancing.ca/wp-content/uploads/2026/04/Baila-2025-Outside-Large.png
END:VEVENT
BEGIN:VEVENT
DTSTART;TZID=America/Toronto:20310309T181500
DTEND;TZID=America/Toronto:20310309T220000
DTSTAMP:20260420T203251
CREATED:20260416T103830Z
LAST-MODIFIED:20260416T103830Z
UID:10000256-1930846500-1930860000@socialdancing.ca
SUMMARY:Baila West Sundays
DESCRIPTION:
URL:https://socialdancing.ca/event/baila-west-sundays/2031-03-09/
LOCATION:Baila West Mississauga\, 40 Stavebank Road North\, Mississauga\, Ontario\, L5G 2T8\, Canada
ATTACH;FMTTYPE=image/png:https://socialdancing.ca/wp-content/uploads/2026/04/Baila-2025-Outside-Large.png
END:VEVENT
BEGIN:VEVENT
DTSTART;TZID=America/Toronto:20310316T181500
DTEND;TZID=America/Toronto:20310316T220000
DTSTAMP:20260420T203251
CREATED:20260416T103830Z
LAST-MODIFIED:20260416T103830Z
UID:10000257-1931451300-1931464800@socialdancing.ca
SUMMARY:Baila West Sundays
DESCRIPTION:
URL:https://socialdancing.ca/event/baila-west-sundays/2031-03-16/
LOCATION:Baila West Mississauga\, 40 Stavebank Road North\, Mississauga\, Ontario\, L5G 2T8\, Canada
ATTACH;FMTTYPE=image/png:https://socialdancing.ca/wp-content/uploads/2026/04/Baila-2025-Outside-Large.png
END:VEVENT
BEGIN:VEVENT
DTSTART;TZID=America/Toronto:20310323T181500
DTEND;TZID=America/Toronto:20310323T220000
DTSTAMP:20260420T203251
CREATED:20260416T103830Z
LAST-MODIFIED:20260416T103830Z
UID:10000258-1932056100-1932069600@socialdancing.ca
SUMMARY:Baila West Sundays
DESCRIPTION:
URL:https://socialdancing.ca/event/baila-west-sundays/2031-03-23/
LOCATION:Baila West Mississauga\, 40 Stavebank Road North\, Mississauga\, Ontario\, L5G 2T8\, Canada
ATTACH;FMTTYPE=image/png:https://socialdancing.ca/wp-content/uploads/2026/04/Baila-2025-Outside-Large.png
END:VEVENT
BEGIN:VEVENT
DTSTART;TZID=America/Toronto:20310330T181500
DTEND;TZID=America/Toronto:20310330T220000
DTSTAMP:20260420T203251
CREATED:20260416T103830Z
LAST-MODIFIED:20260416T103830Z
UID:10000259-1932660900-1932674400@socialdancing.ca
SUMMARY:Baila West Sundays
DESCRIPTION:
URL:https://socialdancing.ca/event/baila-west-sundays/2031-03-30/
LOCATION:Baila West Mississauga\, 40 Stavebank Road North\, Mississauga\, Ontario\, L5G 2T8\, Canada
ATTACH;FMTTYPE=image/png:https://socialdancing.ca/wp-content/uploads/2026/04/Baila-2025-Outside-Large.png
END:VEVENT
BEGIN:VEVENT
DTSTART;TZID=America/Toronto:20310406T181500
DTEND;TZID=America/Toronto:20310406T220000
DTSTAMP:20260420T203251
CREATED:20260416T103830Z
LAST-MODIFIED:20260416T103830Z
UID:10000260-1933265700-1933279200@socialdancing.ca
SUMMARY:Baila West Sundays
DESCRIPTION:
URL:https://socialdancing.ca/event/baila-west-sundays/2031-04-06/
LOCATION:Baila West Mississauga\, 40 Stavebank Road North\, Mississauga\, Ontario\, L5G 2T8\, Canada
ATTACH;FMTTYPE=image/png:https://socialdancing.ca/wp-content/uploads/2026/04/Baila-2025-Outside-Large.png
END:VEVENT
BEGIN:VEVENT
DTSTART;TZID=America/Toronto:20310413T181500
DTEND;TZID=America/Toronto:20310413T220000
DTSTAMP:20260420T203251
CREATED:20260416T103830Z
LAST-MODIFIED:20260416T103830Z
UID:10000261-1933870500-1933884000@socialdancing.ca
SUMMARY:Baila West Sundays
DESCRIPTION:
URL:https://socialdancing.ca/event/baila-west-sundays/2031-04-13/
LOCATION:Baila West Mississauga\, 40 Stavebank Road North\, Mississauga\, Ontario\, L5G 2T8\, Canada
ATTACH;FMTTYPE=image/png:https://socialdancing.ca/wp-content/uploads/2026/04/Baila-2025-Outside-Large.png
END:VEVENT
END:VCALENDAR