BEGIN:VCALENDAR
VERSION:2.0
PRODID:-//socialdancing.ca - ECPv6.15.20//NONSGML v1.0//EN
CALSCALE:GREGORIAN
METHOD:PUBLISH
X-WR-CALNAME:socialdancing.ca
X-ORIGINAL-URL:https://socialdancing.ca
X-WR-CALDESC:Events for socialdancing.ca
REFRESH-INTERVAL;VALUE=DURATION:PT1H
X-Robots-Tag:noindex
X-PUBLISHED-TTL:PT1H
BEGIN:VTIMEZONE
TZID:America/Toronto
BEGIN:DAYLIGHT
TZOFFSETFROM:-0500
TZOFFSETTO:-0400
TZNAME:EDT
DTSTART:20280312T070000
END:DAYLIGHT
BEGIN:STANDARD
TZOFFSETFROM:-0400
TZOFFSETTO:-0500
TZNAME:EST
DTSTART:20281105T060000
END:STANDARD
BEGIN:DAYLIGHT
TZOFFSETFROM:-0500
TZOFFSETTO:-0400
TZNAME:EDT
DTSTART:20290311T070000
END:DAYLIGHT
BEGIN:STANDARD
TZOFFSETFROM:-0400
TZOFFSETTO:-0500
TZNAME:EST
DTSTART:20291104T060000
END:STANDARD
BEGIN:DAYLIGHT
TZOFFSETFROM:-0500
TZOFFSETTO:-0400
TZNAME:EDT
DTSTART:20300310T070000
END:DAYLIGHT
BEGIN:STANDARD
TZOFFSETFROM:-0400
TZOFFSETTO:-0500
TZNAME:EST
DTSTART:20301103T060000
END:STANDARD
BEGIN:DAYLIGHT
TZOFFSETFROM:-0500
TZOFFSETTO:-0400
TZNAME:EDT
DTSTART:20310309T070000
END:DAYLIGHT
BEGIN:STANDARD
TZOFFSETFROM:-0400
TZOFFSETTO:-0500
TZNAME:EST
DTSTART:20311102T060000
END:STANDARD
END:VTIMEZONE
BEGIN:VEVENT
DTSTART;TZID=America/Toronto:20291007T181500
DTEND;TZID=America/Toronto:20291007T220000
DTSTAMP:20260420T032341
CREATED:20260416T103830Z
LAST-MODIFIED:20260416T103830Z
UID:10000182-1886091300-1886104800@socialdancing.ca
SUMMARY:Baila West Sundays
DESCRIPTION:
URL:https://socialdancing.ca/event/baila-west-sundays/2029-10-07/
LOCATION:Baila West Mississauga\, 40 Stavebank Road North\, Mississauga\, Ontario\, L5G 2T8\, Canada
ATTACH;FMTTYPE=image/png:https://socialdancing.ca/wp-content/uploads/2026/04/Baila-2025-Outside-Large.png
END:VEVENT
BEGIN:VEVENT
DTSTART;TZID=America/Toronto:20291014T181500
DTEND;TZID=America/Toronto:20291014T220000
DTSTAMP:20260420T032341
CREATED:20260416T103830Z
LAST-MODIFIED:20260416T103830Z
UID:10000183-1886696100-1886709600@socialdancing.ca
SUMMARY:Baila West Sundays
DESCRIPTION:
URL:https://socialdancing.ca/event/baila-west-sundays/2029-10-14/
LOCATION:Baila West Mississauga\, 40 Stavebank Road North\, Mississauga\, Ontario\, L5G 2T8\, Canada
ATTACH;FMTTYPE=image/png:https://socialdancing.ca/wp-content/uploads/2026/04/Baila-2025-Outside-Large.png
END:VEVENT
BEGIN:VEVENT
DTSTART;TZID=America/Toronto:20291021T181500
DTEND;TZID=America/Toronto:20291021T220000
DTSTAMP:20260420T032341
CREATED:20260416T103830Z
LAST-MODIFIED:20260416T103830Z
UID:10000184-1887300900-1887314400@socialdancing.ca
SUMMARY:Baila West Sundays
DESCRIPTION:
URL:https://socialdancing.ca/event/baila-west-sundays/2029-10-21/
LOCATION:Baila West Mississauga\, 40 Stavebank Road North\, Mississauga\, Ontario\, L5G 2T8\, Canada
ATTACH;FMTTYPE=image/png:https://socialdancing.ca/wp-content/uploads/2026/04/Baila-2025-Outside-Large.png
END:VEVENT
BEGIN:VEVENT
DTSTART;TZID=America/Toronto:20291028T181500
DTEND;TZID=America/Toronto:20291028T220000
DTSTAMP:20260420T032341
CREATED:20260416T103830Z
LAST-MODIFIED:20260416T103830Z
UID:10000185-1887905700-1887919200@socialdancing.ca
SUMMARY:Baila West Sundays
DESCRIPTION:
URL:https://socialdancing.ca/event/baila-west-sundays/2029-10-28/
LOCATION:Baila West Mississauga\, 40 Stavebank Road North\, Mississauga\, Ontario\, L5G 2T8\, Canada
ATTACH;FMTTYPE=image/png:https://socialdancing.ca/wp-content/uploads/2026/04/Baila-2025-Outside-Large.png
END:VEVENT
BEGIN:VEVENT
DTSTART;TZID=America/Toronto:20291104T181500
DTEND;TZID=America/Toronto:20291104T220000
DTSTAMP:20260420T032341
CREATED:20260416T103830Z
LAST-MODIFIED:20260416T103830Z
UID:10000186-1888510500-1888524000@socialdancing.ca
SUMMARY:Baila West Sundays
DESCRIPTION:
URL:https://socialdancing.ca/event/baila-west-sundays/2029-11-04/
LOCATION:Baila West Mississauga\, 40 Stavebank Road North\, Mississauga\, Ontario\, L5G 2T8\, Canada
ATTACH;FMTTYPE=image/png:https://socialdancing.ca/wp-content/uploads/2026/04/Baila-2025-Outside-Large.png
END:VEVENT
BEGIN:VEVENT
DTSTART;TZID=America/Toronto:20291111T181500
DTEND;TZID=America/Toronto:20291111T220000
DTSTAMP:20260420T032341
CREATED:20260416T103830Z
LAST-MODIFIED:20260416T103830Z
UID:10000187-1889115300-1889128800@socialdancing.ca
SUMMARY:Baila West Sundays
DESCRIPTION:
URL:https://socialdancing.ca/event/baila-west-sundays/2029-11-11/
LOCATION:Baila West Mississauga\, 40 Stavebank Road North\, Mississauga\, Ontario\, L5G 2T8\, Canada
ATTACH;FMTTYPE=image/png:https://socialdancing.ca/wp-content/uploads/2026/04/Baila-2025-Outside-Large.png
END:VEVENT
BEGIN:VEVENT
DTSTART;TZID=America/Toronto:20291118T181500
DTEND;TZID=America/Toronto:20291118T220000
DTSTAMP:20260420T032341
CREATED:20260416T103830Z
LAST-MODIFIED:20260416T103830Z
UID:10000188-1889720100-1889733600@socialdancing.ca
SUMMARY:Baila West Sundays
DESCRIPTION:
URL:https://socialdancing.ca/event/baila-west-sundays/2029-11-18/
LOCATION:Baila West Mississauga\, 40 Stavebank Road North\, Mississauga\, Ontario\, L5G 2T8\, Canada
ATTACH;FMTTYPE=image/png:https://socialdancing.ca/wp-content/uploads/2026/04/Baila-2025-Outside-Large.png
END:VEVENT
BEGIN:VEVENT
DTSTART;TZID=America/Toronto:20291125T181500
DTEND;TZID=America/Toronto:20291125T220000
DTSTAMP:20260420T032341
CREATED:20260416T103830Z
LAST-MODIFIED:20260416T103830Z
UID:10000189-1890324900-1890338400@socialdancing.ca
SUMMARY:Baila West Sundays
DESCRIPTION:
URL:https://socialdancing.ca/event/baila-west-sundays/2029-11-25/
LOCATION:Baila West Mississauga\, 40 Stavebank Road North\, Mississauga\, Ontario\, L5G 2T8\, Canada
ATTACH;FMTTYPE=image/png:https://socialdancing.ca/wp-content/uploads/2026/04/Baila-2025-Outside-Large.png
END:VEVENT
BEGIN:VEVENT
DTSTART;TZID=America/Toronto:20291202T181500
DTEND;TZID=America/Toronto:20291202T220000
DTSTAMP:20260420T032341
CREATED:20260416T103830Z
LAST-MODIFIED:20260416T103830Z
UID:10000190-1890929700-1890943200@socialdancing.ca
SUMMARY:Baila West Sundays
DESCRIPTION:
URL:https://socialdancing.ca/event/baila-west-sundays/2029-12-02/
LOCATION:Baila West Mississauga\, 40 Stavebank Road North\, Mississauga\, Ontario\, L5G 2T8\, Canada
ATTACH;FMTTYPE=image/png:https://socialdancing.ca/wp-content/uploads/2026/04/Baila-2025-Outside-Large.png
END:VEVENT
BEGIN:VEVENT
DTSTART;TZID=America/Toronto:20291209T181500
DTEND;TZID=America/Toronto:20291209T220000
DTSTAMP:20260420T032341
CREATED:20260416T103830Z
LAST-MODIFIED:20260416T103830Z
UID:10000191-1891534500-1891548000@socialdancing.ca
SUMMARY:Baila West Sundays
DESCRIPTION:
URL:https://socialdancing.ca/event/baila-west-sundays/2029-12-09/
LOCATION:Baila West Mississauga\, 40 Stavebank Road North\, Mississauga\, Ontario\, L5G 2T8\, Canada
ATTACH;FMTTYPE=image/png:https://socialdancing.ca/wp-content/uploads/2026/04/Baila-2025-Outside-Large.png
END:VEVENT
BEGIN:VEVENT
DTSTART;TZID=America/Toronto:20291216T181500
DTEND;TZID=America/Toronto:20291216T220000
DTSTAMP:20260420T032341
CREATED:20260416T103830Z
LAST-MODIFIED:20260416T103830Z
UID:10000192-1892139300-1892152800@socialdancing.ca
SUMMARY:Baila West Sundays
DESCRIPTION:
URL:https://socialdancing.ca/event/baila-west-sundays/2029-12-16/
LOCATION:Baila West Mississauga\, 40 Stavebank Road North\, Mississauga\, Ontario\, L5G 2T8\, Canada
ATTACH;FMTTYPE=image/png:https://socialdancing.ca/wp-content/uploads/2026/04/Baila-2025-Outside-Large.png
END:VEVENT
BEGIN:VEVENT
DTSTART;TZID=America/Toronto:20291223T181500
DTEND;TZID=America/Toronto:20291223T220000
DTSTAMP:20260420T032341
CREATED:20260416T103830Z
LAST-MODIFIED:20260416T103830Z
UID:10000193-1892744100-1892757600@socialdancing.ca
SUMMARY:Baila West Sundays
DESCRIPTION:
URL:https://socialdancing.ca/event/baila-west-sundays/2029-12-23/
LOCATION:Baila West Mississauga\, 40 Stavebank Road North\, Mississauga\, Ontario\, L5G 2T8\, Canada
ATTACH;FMTTYPE=image/png:https://socialdancing.ca/wp-content/uploads/2026/04/Baila-2025-Outside-Large.png
END:VEVENT
BEGIN:VEVENT
DTSTART;TZID=America/Toronto:20291230T181500
DTEND;TZID=America/Toronto:20291230T220000
DTSTAMP:20260420T032341
CREATED:20260416T103830Z
LAST-MODIFIED:20260416T103830Z
UID:10000194-1893348900-1893362400@socialdancing.ca
SUMMARY:Baila West Sundays
DESCRIPTION:
URL:https://socialdancing.ca/event/baila-west-sundays/2029-12-30/
LOCATION:Baila West Mississauga\, 40 Stavebank Road North\, Mississauga\, Ontario\, L5G 2T8\, Canada
ATTACH;FMTTYPE=image/png:https://socialdancing.ca/wp-content/uploads/2026/04/Baila-2025-Outside-Large.png
END:VEVENT
BEGIN:VEVENT
DTSTART;TZID=America/Toronto:20300106T181500
DTEND;TZID=America/Toronto:20300106T220000
DTSTAMP:20260420T032341
CREATED:20260416T103830Z
LAST-MODIFIED:20260416T103830Z
UID:10000195-1893953700-1893967200@socialdancing.ca
SUMMARY:Baila West Sundays
DESCRIPTION:
URL:https://socialdancing.ca/event/baila-west-sundays/2030-01-06/
LOCATION:Baila West Mississauga\, 40 Stavebank Road North\, Mississauga\, Ontario\, L5G 2T8\, Canada
ATTACH;FMTTYPE=image/png:https://socialdancing.ca/wp-content/uploads/2026/04/Baila-2025-Outside-Large.png
END:VEVENT
BEGIN:VEVENT
DTSTART;TZID=America/Toronto:20300113T181500
DTEND;TZID=America/Toronto:20300113T220000
DTSTAMP:20260420T032341
CREATED:20260416T103830Z
LAST-MODIFIED:20260416T103830Z
UID:10000196-1894558500-1894572000@socialdancing.ca
SUMMARY:Baila West Sundays
DESCRIPTION:
URL:https://socialdancing.ca/event/baila-west-sundays/2030-01-13/
LOCATION:Baila West Mississauga\, 40 Stavebank Road North\, Mississauga\, Ontario\, L5G 2T8\, Canada
ATTACH;FMTTYPE=image/png:https://socialdancing.ca/wp-content/uploads/2026/04/Baila-2025-Outside-Large.png
END:VEVENT
BEGIN:VEVENT
DTSTART;TZID=America/Toronto:20300120T181500
DTEND;TZID=America/Toronto:20300120T220000
DTSTAMP:20260420T032341
CREATED:20260416T103830Z
LAST-MODIFIED:20260416T103830Z
UID:10000197-1895163300-1895176800@socialdancing.ca
SUMMARY:Baila West Sundays
DESCRIPTION:
URL:https://socialdancing.ca/event/baila-west-sundays/2030-01-20/
LOCATION:Baila West Mississauga\, 40 Stavebank Road North\, Mississauga\, Ontario\, L5G 2T8\, Canada
ATTACH;FMTTYPE=image/png:https://socialdancing.ca/wp-content/uploads/2026/04/Baila-2025-Outside-Large.png
END:VEVENT
BEGIN:VEVENT
DTSTART;TZID=America/Toronto:20300127T181500
DTEND;TZID=America/Toronto:20300127T220000
DTSTAMP:20260420T032341
CREATED:20260416T103830Z
LAST-MODIFIED:20260416T103830Z
UID:10000198-1895768100-1895781600@socialdancing.ca
SUMMARY:Baila West Sundays
DESCRIPTION:
URL:https://socialdancing.ca/event/baila-west-sundays/2030-01-27/
LOCATION:Baila West Mississauga\, 40 Stavebank Road North\, Mississauga\, Ontario\, L5G 2T8\, Canada
ATTACH;FMTTYPE=image/png:https://socialdancing.ca/wp-content/uploads/2026/04/Baila-2025-Outside-Large.png
END:VEVENT
BEGIN:VEVENT
DTSTART;TZID=America/Toronto:20300203T181500
DTEND;TZID=America/Toronto:20300203T220000
DTSTAMP:20260420T032341
CREATED:20260416T103830Z
LAST-MODIFIED:20260416T103830Z
UID:10000199-1896372900-1896386400@socialdancing.ca
SUMMARY:Baila West Sundays
DESCRIPTION:
URL:https://socialdancing.ca/event/baila-west-sundays/2030-02-03/
LOCATION:Baila West Mississauga\, 40 Stavebank Road North\, Mississauga\, Ontario\, L5G 2T8\, Canada
ATTACH;FMTTYPE=image/png:https://socialdancing.ca/wp-content/uploads/2026/04/Baila-2025-Outside-Large.png
END:VEVENT
BEGIN:VEVENT
DTSTART;TZID=America/Toronto:20300210T181500
DTEND;TZID=America/Toronto:20300210T220000
DTSTAMP:20260420T032341
CREATED:20260416T103830Z
LAST-MODIFIED:20260416T103830Z
UID:10000200-1896977700-1896991200@socialdancing.ca
SUMMARY:Baila West Sundays
DESCRIPTION:
URL:https://socialdancing.ca/event/baila-west-sundays/2030-02-10/
LOCATION:Baila West Mississauga\, 40 Stavebank Road North\, Mississauga\, Ontario\, L5G 2T8\, Canada
ATTACH;FMTTYPE=image/png:https://socialdancing.ca/wp-content/uploads/2026/04/Baila-2025-Outside-Large.png
END:VEVENT
BEGIN:VEVENT
DTSTART;TZID=America/Toronto:20300217T181500
DTEND;TZID=America/Toronto:20300217T220000
DTSTAMP:20260420T032341
CREATED:20260416T103830Z
LAST-MODIFIED:20260416T103830Z
UID:10000201-1897582500-1897596000@socialdancing.ca
SUMMARY:Baila West Sundays
DESCRIPTION:
URL:https://socialdancing.ca/event/baila-west-sundays/2030-02-17/
LOCATION:Baila West Mississauga\, 40 Stavebank Road North\, Mississauga\, Ontario\, L5G 2T8\, Canada
ATTACH;FMTTYPE=image/png:https://socialdancing.ca/wp-content/uploads/2026/04/Baila-2025-Outside-Large.png
END:VEVENT
BEGIN:VEVENT
DTSTART;TZID=America/Toronto:20300224T181500
DTEND;TZID=America/Toronto:20300224T220000
DTSTAMP:20260420T032341
CREATED:20260416T103830Z
LAST-MODIFIED:20260416T103830Z
UID:10000202-1898187300-1898200800@socialdancing.ca
SUMMARY:Baila West Sundays
DESCRIPTION:
URL:https://socialdancing.ca/event/baila-west-sundays/2030-02-24/
LOCATION:Baila West Mississauga\, 40 Stavebank Road North\, Mississauga\, Ontario\, L5G 2T8\, Canada
ATTACH;FMTTYPE=image/png:https://socialdancing.ca/wp-content/uploads/2026/04/Baila-2025-Outside-Large.png
END:VEVENT
BEGIN:VEVENT
DTSTART;TZID=America/Toronto:20300303T181500
DTEND;TZID=America/Toronto:20300303T220000
DTSTAMP:20260420T032341
CREATED:20260416T103830Z
LAST-MODIFIED:20260416T103830Z
UID:10000203-1898792100-1898805600@socialdancing.ca
SUMMARY:Baila West Sundays
DESCRIPTION:
URL:https://socialdancing.ca/event/baila-west-sundays/2030-03-03/
LOCATION:Baila West Mississauga\, 40 Stavebank Road North\, Mississauga\, Ontario\, L5G 2T8\, Canada
ATTACH;FMTTYPE=image/png:https://socialdancing.ca/wp-content/uploads/2026/04/Baila-2025-Outside-Large.png
END:VEVENT
BEGIN:VEVENT
DTSTART;TZID=America/Toronto:20300310T181500
DTEND;TZID=America/Toronto:20300310T220000
DTSTAMP:20260420T032341
CREATED:20260416T103830Z
LAST-MODIFIED:20260416T103830Z
UID:10000204-1899396900-1899410400@socialdancing.ca
SUMMARY:Baila West Sundays
DESCRIPTION:
URL:https://socialdancing.ca/event/baila-west-sundays/2030-03-10/
LOCATION:Baila West Mississauga\, 40 Stavebank Road North\, Mississauga\, Ontario\, L5G 2T8\, Canada
ATTACH;FMTTYPE=image/png:https://socialdancing.ca/wp-content/uploads/2026/04/Baila-2025-Outside-Large.png
END:VEVENT
BEGIN:VEVENT
DTSTART;TZID=America/Toronto:20300317T181500
DTEND;TZID=America/Toronto:20300317T220000
DTSTAMP:20260420T032341
CREATED:20260416T103830Z
LAST-MODIFIED:20260416T103830Z
UID:10000205-1900001700-1900015200@socialdancing.ca
SUMMARY:Baila West Sundays
DESCRIPTION:
URL:https://socialdancing.ca/event/baila-west-sundays/2030-03-17/
LOCATION:Baila West Mississauga\, 40 Stavebank Road North\, Mississauga\, Ontario\, L5G 2T8\, Canada
ATTACH;FMTTYPE=image/png:https://socialdancing.ca/wp-content/uploads/2026/04/Baila-2025-Outside-Large.png
END:VEVENT
BEGIN:VEVENT
DTSTART;TZID=America/Toronto:20300324T181500
DTEND;TZID=America/Toronto:20300324T220000
DTSTAMP:20260420T032341
CREATED:20260416T103830Z
LAST-MODIFIED:20260416T103830Z
UID:10000206-1900606500-1900620000@socialdancing.ca
SUMMARY:Baila West Sundays
DESCRIPTION:
URL:https://socialdancing.ca/event/baila-west-sundays/2030-03-24/
LOCATION:Baila West Mississauga\, 40 Stavebank Road North\, Mississauga\, Ontario\, L5G 2T8\, Canada
ATTACH;FMTTYPE=image/png:https://socialdancing.ca/wp-content/uploads/2026/04/Baila-2025-Outside-Large.png
END:VEVENT
BEGIN:VEVENT
DTSTART;TZID=America/Toronto:20300331T181500
DTEND;TZID=America/Toronto:20300331T220000
DTSTAMP:20260420T032341
CREATED:20260416T103830Z
LAST-MODIFIED:20260416T103830Z
UID:10000207-1901211300-1901224800@socialdancing.ca
SUMMARY:Baila West Sundays
DESCRIPTION:
URL:https://socialdancing.ca/event/baila-west-sundays/2030-03-31/
LOCATION:Baila West Mississauga\, 40 Stavebank Road North\, Mississauga\, Ontario\, L5G 2T8\, Canada
ATTACH;FMTTYPE=image/png:https://socialdancing.ca/wp-content/uploads/2026/04/Baila-2025-Outside-Large.png
END:VEVENT
BEGIN:VEVENT
DTSTART;TZID=America/Toronto:20300407T181500
DTEND;TZID=America/Toronto:20300407T220000
DTSTAMP:20260420T032341
CREATED:20260416T103830Z
LAST-MODIFIED:20260416T103830Z
UID:10000208-1901816100-1901829600@socialdancing.ca
SUMMARY:Baila West Sundays
DESCRIPTION:
URL:https://socialdancing.ca/event/baila-west-sundays/2030-04-07/
LOCATION:Baila West Mississauga\, 40 Stavebank Road North\, Mississauga\, Ontario\, L5G 2T8\, Canada
ATTACH;FMTTYPE=image/png:https://socialdancing.ca/wp-content/uploads/2026/04/Baila-2025-Outside-Large.png
END:VEVENT
BEGIN:VEVENT
DTSTART;TZID=America/Toronto:20300414T181500
DTEND;TZID=America/Toronto:20300414T220000
DTSTAMP:20260420T032341
CREATED:20260416T103830Z
LAST-MODIFIED:20260416T103830Z
UID:10000209-1902420900-1902434400@socialdancing.ca
SUMMARY:Baila West Sundays
DESCRIPTION:
URL:https://socialdancing.ca/event/baila-west-sundays/2030-04-14/
LOCATION:Baila West Mississauga\, 40 Stavebank Road North\, Mississauga\, Ontario\, L5G 2T8\, Canada
ATTACH;FMTTYPE=image/png:https://socialdancing.ca/wp-content/uploads/2026/04/Baila-2025-Outside-Large.png
END:VEVENT
BEGIN:VEVENT
DTSTART;TZID=America/Toronto:20300421T181500
DTEND;TZID=America/Toronto:20300421T220000
DTSTAMP:20260420T032341
CREATED:20260416T103830Z
LAST-MODIFIED:20260416T103830Z
UID:10000210-1903025700-1903039200@socialdancing.ca
SUMMARY:Baila West Sundays
DESCRIPTION:
URL:https://socialdancing.ca/event/baila-west-sundays/2030-04-21/
LOCATION:Baila West Mississauga\, 40 Stavebank Road North\, Mississauga\, Ontario\, L5G 2T8\, Canada
ATTACH;FMTTYPE=image/png:https://socialdancing.ca/wp-content/uploads/2026/04/Baila-2025-Outside-Large.png
END:VEVENT
BEGIN:VEVENT
DTSTART;TZID=America/Toronto:20300428T181500
DTEND;TZID=America/Toronto:20300428T220000
DTSTAMP:20260420T032341
CREATED:20260416T103830Z
LAST-MODIFIED:20260416T103830Z
UID:10000211-1903630500-1903644000@socialdancing.ca
SUMMARY:Baila West Sundays
DESCRIPTION:
URL:https://socialdancing.ca/event/baila-west-sundays/2030-04-28/
LOCATION:Baila West Mississauga\, 40 Stavebank Road North\, Mississauga\, Ontario\, L5G 2T8\, Canada
ATTACH;FMTTYPE=image/png:https://socialdancing.ca/wp-content/uploads/2026/04/Baila-2025-Outside-Large.png
END:VEVENT
END:VCALENDAR